BEGIN:VCALENDAR
VERSION:2.0
PRODID:-//92.5 the River - ECPv5.16.3.1//NONSGML v1.0//EN
CALSCALE:GREGORIAN
METHOD:PUBLISH
X-WR-CALNAME:92.5 the River
X-ORIGINAL-URL:https://theriverboston.com
X-WR-CALDESC:Events for 92.5 the River
BEGIN:VTIMEZONE
TZID:America/New_York
BEGIN:DAYLIGHT
TZOFFSETFROM:-0500
TZOFFSETTO:-0400
TZNAME:EDT
DTSTART:20160313T070000
END:DAYLIGHT
BEGIN:STANDARD
TZOFFSETFROM:-0400
TZOFFSETTO:-0500
TZNAME:EST
DTSTART:20161106T060000
END:STANDARD
END:VTIMEZONE
BEGIN:VEVENT
DTSTART;TZID=America/New_York:20160319T080000
DTEND;TZID=America/New_York:20160319T110000
DTSTAMP:20260420T063527
CREATED:20160309T184638Z
LAST-MODIFIED:20160309T184941Z
UID:10214-1458374400-1458385200@theriverboston.com
SUMMARY:Kimball Farm Open House Job Fair - Lancaster
DESCRIPTION:Work for Kimball Farm!\nAttend Kimball Farm’s Lancaster\, MA location’s job fair.\nWhen: Saturday\, March 19th\nWhere: Lancaster\, MA\nTime: 8AM – 11AM\nFor more information\, click here!
URL:https://theriverboston.com/events/10214/
END:VEVENT
END:VCALENDAR