BEGIN:VCALENDAR
VERSION:2.0
PRODID:-//92.5 the River - ECPv5.16.3.1//NONSGML v1.0//EN
CALSCALE:GREGORIAN
METHOD:PUBLISH
X-WR-CALNAME:92.5 the River
X-ORIGINAL-URL:https://theriverboston.com
X-WR-CALDESC:Events for 92.5 the River
BEGIN:VTIMEZONE
TZID:America/New_York
BEGIN:DAYLIGHT
TZOFFSETFROM:-0500
TZOFFSETTO:-0400
TZNAME:EDT
DTSTART:20170312T070000
END:DAYLIGHT
BEGIN:STANDARD
TZOFFSETFROM:-0400
TZOFFSETTO:-0500
TZNAME:EST
DTSTART:20171105T060000
END:STANDARD
END:VTIMEZONE
BEGIN:VEVENT
DTSTART;TZID=America/New_York:20170126T180000
DTEND;TZID=America/New_York:20170126T210000
DTSTAMP:20260425T232401
CREATED:20161227T191438Z
LAST-MODIFIED:20161227T191438Z
UID:29923-1485453600-1485464400@theriverboston.com
SUMMARY:14th Annual Winter Wine Spectacular!
DESCRIPTION:On Thursday\, January 26th from 6:00 to 9:00 PM join Easter Seals at the Radisson Hotel Manchester for the Winter Wine Spectacular! It is the crown jewel of Wine Week 2017. \nThere will be over 1\,800 wines available for sampling\, as well as scrumptious local fare\, a silent auction and raffle\, the Bellman Cellar Select VIP tasting room\, and the chance to meet and learn from more than 60 wine personalities. \nClick here for ticket prices and more information! \nProceeds directly support Easter Seals New Hampshire’s early intervention program.
URL:https://theriverboston.com/events/14th-annual-winter-wine-spectacular/
LOCATION:Radisson Hotel Manchester\, 700 Elm Street\, Manchester\, MA\, 03101\, United States
END:VEVENT
END:VCALENDAR