BEGIN:VCALENDAR
VERSION:2.0
PRODID:-//92.5 the River - ECPv5.16.3.1//NONSGML v1.0//EN
CALSCALE:GREGORIAN
METHOD:PUBLISH
X-WR-CALNAME:92.5 the River
X-ORIGINAL-URL:https://theriverboston.com
X-WR-CALDESC:Events for 92.5 the River
BEGIN:VTIMEZONE
TZID:America/New_York
BEGIN:DAYLIGHT
TZOFFSETFROM:-0500
TZOFFSETTO:-0400
TZNAME:EDT
DTSTART:20180311T070000
END:DAYLIGHT
BEGIN:STANDARD
TZOFFSETFROM:-0400
TZOFFSETTO:-0500
TZNAME:EST
DTSTART:20181104T060000
END:STANDARD
END:VTIMEZONE
BEGIN:VEVENT
DTSTART;TZID=America/New_York:20181110T180000
DTEND;TZID=America/New_York:20181110T230000
DTSTAMP:20260420T104747
CREATED:20181012T134755Z
LAST-MODIFIED:20181012T135145Z
UID:203251-1541872800-1541890800@theriverboston.com
SUMMARY:15th Annual RiverFeast - featuring The Jayhawks
DESCRIPTION:Don’t miss this special evening for a great cause\nJoin us for an unforgettable evening filled with music and so much more — all while helping to raise awareness and much-needed funds for the Greater Boston Food Bank! \nGuests will experience a cocktail reception and silent auction\, a delicious harvest-themed dinner\, and special musical performances\, including Billy Raffoul\, followed by featured artists\, the Jayhawks! And all in a spectacular\, seaside setting! \nThis popular annual event always sells out quickly\, so don’t miss out. Get event details and buy tickets at the RiverFeast page
URL:https://theriverboston.com/events/15th-annual-riverfeast/
LOCATION:Blue Ocean Music Hall\, 4 Oceanfront North\, Salisbury\, MA\, 01952\, United States
ORGANIZER;CN="92.5%20the%20River":MAILTO:promotions@wxrv.com
END:VEVENT
END:VCALENDAR