BEGIN:VCALENDAR
VERSION:2.0
PRODID:-//92.5 the River - ECPv5.16.3.1//NONSGML v1.0//EN
CALSCALE:GREGORIAN
METHOD:PUBLISH
X-WR-CALNAME:92.5 the River
X-ORIGINAL-URL:https://theriverboston.com
X-WR-CALDESC:Events for 92.5 the River
BEGIN:VTIMEZONE
TZID:America/New_York
BEGIN:DAYLIGHT
TZOFFSETFROM:-0500
TZOFFSETTO:-0400
TZNAME:EDT
DTSTART:20170312T070000
END:DAYLIGHT
BEGIN:STANDARD
TZOFFSETFROM:-0400
TZOFFSETTO:-0500
TZNAME:EST
DTSTART:20171105T060000
END:STANDARD
END:VTIMEZONE
BEGIN:VEVENT
DTSTART;TZID=America/New_York:20170505T183000
DTEND;TZID=America/New_York:20170505T220000
DTSTAMP:20260425T150558
CREATED:20170412T175623Z
LAST-MODIFIED:20170412T175623Z
UID:41204-1494009000-1494021600@theriverboston.com
SUMMARY:2017 Cinco De Mayo Celebration
DESCRIPTION:After taking a few years off\, Families in Transition is bringing back their cinco de mayo celebration! Families in Transition will provide tasty bites\, drinks\, and live music by The Michael Vincent Band to make the best “fiesta” for cinco de mayo! They will also have auctions and games\, making sure you have fun while giving to a great cause! The event begins at 6:30 on Friday\, May 5th in Manchester\, NH. Regular tickets are priced at $50 and VIP Experience tickets\, which include a party before the party from 5:30 to 6:30\, are $75. Families in Transition is a wonderful nonprofit organization which helps struggling families and individuals find homes and success\, with the ultimate goal of ending homelessness in New Hampshire. The celebration this year is going to be the best yet\, don’t miss out! \nYou can purchase your tickets here!
URL:https://theriverboston.com/events/2017-cinco-de-mayo-celebration/
LOCATION:Former Namco Store\, 140 March Ave\, Manchester\, NH\, 03101\, United States
END:VEVENT
END:VCALENDAR