BEGIN:VCALENDAR
VERSION:2.0
PRODID:-//92.5 the River - ECPv5.16.3.1//NONSGML v1.0//EN
CALSCALE:GREGORIAN
METHOD:PUBLISH
X-WR-CALNAME:92.5 the River
X-ORIGINAL-URL:https://theriverboston.com
X-WR-CALDESC:Events for 92.5 the River
BEGIN:VTIMEZONE
TZID:America/New_York
BEGIN:DAYLIGHT
TZOFFSETFROM:-0500
TZOFFSETTO:-0400
TZNAME:EDT
DTSTART:20180311T070000
END:DAYLIGHT
BEGIN:STANDARD
TZOFFSETFROM:-0400
TZOFFSETTO:-0500
TZNAME:EST
DTSTART:20181104T060000
END:STANDARD
END:VTIMEZONE
BEGIN:VEVENT
DTSTART;TZID=America/New_York:20181125T140000
DTEND;TZID=America/New_York:20181125T170000
DTSTAMP:20260419T211417
CREATED:20181114T165148Z
LAST-MODIFIED:20181114T165213Z
UID:204684-1543154400-1543165200@theriverboston.com
SUMMARY:2018 Tree Lighting at Brickstone Square
DESCRIPTION:2018 Tree Lighting at Brickstone Square in Andover\, MA\nKS Partners and the Brickstone Square community would like to extend a cordial invitation to all residents of Andover and neighboring towns to our 2018 Tree Lighting Brickstone. \nOn Sunday\, November 25 at 2pm\, after the Andover Santa Parade\, KS Partners is hosting a Tree Lighting at their Andover Brickstone property. The all-ages event is free and open to the public. \nJoin the Brickstone community and 92.5 The River from 2-5pm for an afternoon of inflatable fun\, Santa\, prizes\, holiday treats\, trackless trains\, police and fire vehicles\, kid’s crafts\, a live ice sculpture demonstration\, musical performances\, and more. \nTimeline:\n2:00PM – Start \n2:30PM – Special words from Gail Ralston\, Town Manager \n2:45PM – Musical performances by Lydian and the Andover Choral Society \n3:30PM – Santa’s Arrives via Helicopter! \n4:00PM – Tree Lighting
URL:https://theriverboston.com/events/2018-tree-lighting-at-brickstone-square/
LOCATION:Brickstone Square\, 200 Brickstone Square\, Andover\, MA\, 01810\, United States
END:VEVENT
END:VCALENDAR