BEGIN:VCALENDAR
VERSION:2.0
PRODID:-//92.5 the River - ECPv5.16.3.1//NONSGML v1.0//EN
CALSCALE:GREGORIAN
METHOD:PUBLISH
X-WR-CALNAME:92.5 the River
X-ORIGINAL-URL:https://theriverboston.com
X-WR-CALDESC:Events for 92.5 the River
BEGIN:VTIMEZONE
TZID:America/New_York
BEGIN:DAYLIGHT
TZOFFSETFROM:-0500
TZOFFSETTO:-0400
TZNAME:EDT
DTSTART:20190310T070000
END:DAYLIGHT
BEGIN:STANDARD
TZOFFSETFROM:-0400
TZOFFSETTO:-0500
TZNAME:EST
DTSTART:20191103T060000
END:STANDARD
END:VTIMEZONE
BEGIN:VEVENT
DTSTART;TZID=America/New_York:20190331T120000
DTEND;TZID=America/New_York:20190331T140000
DTSTAMP:20260419T203003
CREATED:20190318T192243Z
LAST-MODIFIED:20190318T192447Z
UID:207499-1554033600-1554040800@theriverboston.com
SUMMARY:Salem Film Festival - 16 BARS at Peabody's Black Box
DESCRIPTION:Peabody’s Black Box will be screening Sam Bathrick’s 16 BARS as part of the Salem Film Festival! \nIn 16 BARS\, A Richmond\, Virginia jail is home to a makeshift recording studio where Grammy-winning recording artist\, Todd “Speech” Thomas\, collaborates with inmates in a unique rehabilitation effort that involves writing and recording their original music. It is an intimate look at how four men try to escape their cycle of recidivism by engaging in a creative process that forces them to confront painful memories from the past. \n16 BARS will be playing Saturday\, March 30th\, and will feature a Q&A with director Sam Batherick afterwards. You can enter to win tickets from the River in our Tickets & Exclusive Offers section. Trailers\, summaries\, and film listings available at salemfilmfest.com.
URL:https://theriverboston.com/events/207499/
LOCATION:Peabody’s Black Box\, 22 Foster St\, Peabody\, MA\, 01960\, United States
END:VEVENT
END:VCALENDAR