BEGIN:VCALENDAR
VERSION:2.0
PRODID:-//92.5 the River - ECPv5.16.3.1//NONSGML v1.0//EN
CALSCALE:GREGORIAN
METHOD:PUBLISH
X-WR-CALNAME:92.5 the River
X-ORIGINAL-URL:https://theriverboston.com
X-WR-CALDESC:Events for 92.5 the River
BEGIN:VTIMEZONE
TZID:America/New_York
BEGIN:DAYLIGHT
TZOFFSETFROM:-0500
TZOFFSETTO:-0400
TZNAME:EDT
DTSTART:20190310T070000
END:DAYLIGHT
BEGIN:STANDARD
TZOFFSETFROM:-0400
TZOFFSETTO:-0500
TZNAME:EST
DTSTART:20191103T060000
END:STANDARD
END:VTIMEZONE
BEGIN:VEVENT
DTSTART;TZID=America/New_York:20190831T110000
DTEND;TZID=America/New_York:20190831T190000
DTSTAMP:20260423T225058
CREATED:20190808T174037Z
LAST-MODIFIED:20190808T174353Z
UID:210129-1567249200-1567278000@theriverboston.com
SUMMARY:NH Liquor & Wine Outlets Summer Fun Tour BLOCK PARTY!
DESCRIPTION:  \nJoin New Hampshire Liquor and Wine Outlet in celebrating another Summer Fun Tour with a block-party on August 31st from 11am-7pm in Hooksett\, NH! \nPlay games\, win prizes and enjoy a meal at the variety of food trucks that will be at the event! \nJoin The River Roadies who will be in attendance again this year with games and prizes! \nLearn more at their website here!
URL:https://theriverboston.com/events/210129/
LOCATION:NH Liquor and Wine Outlet\, 10 Benning St\, West Lebanon\, NH\, 03784
END:VEVENT
END:VCALENDAR