BEGIN:VCALENDAR
VERSION:2.0
PRODID:-//92.5 the River - ECPv5.16.3.1//NONSGML v1.0//EN
CALSCALE:GREGORIAN
METHOD:PUBLISH
X-WR-CALNAME:92.5 the River
X-ORIGINAL-URL:https://theriverboston.com
X-WR-CALDESC:Events for 92.5 the River
BEGIN:VTIMEZONE
TZID:America/New_York
BEGIN:DAYLIGHT
TZOFFSETFROM:-0500
TZOFFSETTO:-0400
TZNAME:EDT
DTSTART:20200308T070000
END:DAYLIGHT
BEGIN:STANDARD
TZOFFSETFROM:-0400
TZOFFSETTO:-0500
TZNAME:EST
DTSTART:20201101T060000
END:STANDARD
END:VTIMEZONE
BEGIN:VEVENT
DTSTART;TZID=America/New_York:20200215T200000
DTEND;TZID=America/New_York:20200215T200000
DTSTAMP:20260422T223957
CREATED:20190930T184423Z
LAST-MODIFIED:20190930T185003Z
UID:210638-1581796800-1581796800@theriverboston.com
SUMMARY:Juanito Pascual Trio at The Music Hall
DESCRIPTION:Juanito Pascual Trio is coming to The Music Hall for the Live at The Loft Series!\nJuanito Pascual Trio is coming to The Music Hall as part of their Live at The Loft Series – music from around the corner or around the world! Fans of Brunch by The River will love this group! Tickets go on sale October 19th. \nLive at The Loft Series is sponsored by The River.
URL:https://theriverboston.com/events/210638/
LOCATION:The Music Hall\, 28 Chestnut Street\, Portsmouth\, NH\, 03801\, United States
END:VEVENT
END:VCALENDAR