BEGIN:VCALENDAR
VERSION:2.0
PRODID:-//92.5 the River - ECPv5.16.3.1//NONSGML v1.0//EN
CALSCALE:GREGORIAN
METHOD:PUBLISH
X-WR-CALNAME:92.5 the River
X-ORIGINAL-URL:https://theriverboston.com
X-WR-CALDESC:Events for 92.5 the River
BEGIN:VTIMEZONE
TZID:America/New_York
BEGIN:DAYLIGHT
TZOFFSETFROM:-0500
TZOFFSETTO:-0400
TZNAME:EDT
DTSTART:20200308T070000
END:DAYLIGHT
BEGIN:STANDARD
TZOFFSETFROM:-0400
TZOFFSETTO:-0500
TZNAME:EST
DTSTART:20201101T060000
END:STANDARD
END:VTIMEZONE
BEGIN:VEVENT
DTSTART;TZID=America/New_York:20200104T150000
DTEND;TZID=America/New_York:20200104T170000
DTSTAMP:20260423T155309
CREATED:20191231T025955Z
LAST-MODIFIED:20200103T170202Z
UID:211429-1578150000-1578157200@theriverboston.com
SUMMARY:Ride And Ski With The River At Gunstock!
DESCRIPTION:  \n \nThe River Roadies are back to start another season on the slopes! Join them this Saturday at Gunstock Mountain Resort for music\, games\, a spin on the prize wheel\, and an opportunity to win tickets to see Guster at the Music Hall in Portsmouth! Then take in the view from the slopes and enjoy your ride on Gunstock’s fourteen-hundred vertical feet! \nPlus\, January 4th is also the day of the resort’s first GROM Jam\, where riders age fifteen and under can join a fun\, friendly competition! Explore more and Chase Your Path at their website!
URL:https://theriverboston.com/events/211429/
LOCATION:Gunstock Resort\, 719 Cherry Valley Rd.\, Gilford\, NH\,  03249\, United States
END:VEVENT
END:VCALENDAR