BEGIN:VCALENDAR
VERSION:2.0
PRODID:-//92.5 the River - ECPv5.16.3.1//NONSGML v1.0//EN
CALSCALE:GREGORIAN
METHOD:PUBLISH
X-WR-CALNAME:92.5 the River
X-ORIGINAL-URL:https://theriverboston.com
X-WR-CALDESC:Events for 92.5 the River
BEGIN:VTIMEZONE
TZID:America/New_York
BEGIN:DAYLIGHT
TZOFFSETFROM:-0500
TZOFFSETTO:-0400
TZNAME:EDT
DTSTART:20200308T070000
END:DAYLIGHT
BEGIN:STANDARD
TZOFFSETFROM:-0400
TZOFFSETTO:-0500
TZNAME:EST
DTSTART:20201101T060000
END:STANDARD
END:VTIMEZONE
BEGIN:VEVENT
DTSTART;TZID=America/New_York:20200502T140000
DTEND;TZID=America/New_York:20200502T180000
DTSTAMP:20260419T214730
CREATED:20200427T153548Z
LAST-MODIFIED:20200428T143418Z
UID:212336-1588428000-1588442400@theriverboston.com
SUMMARY:Keep New Hampshire Brewing Festival!
DESCRIPTION:Like many small businesses\, New Hampshire’s craft brewers are struggling. Craft brewers\, and craft beer lovers\, share a unique bond. Beer has a unique ability to bring people together! While taprooms operate across New Hampshire some day\, for now it’s important we stay home. With that in mind the New Hampshire Brewers Association is creating a unique “Virtual Beerfest” taking place this Saturday. This is a “BYOB” event with a twist! You bring the New Hampshire Beers and The New Hampshire Brewers Association will bring the brewers to you! Brewers across New Hampshire are offering curbside pick up of your favorite beers\, and in some cases\, home delivery right to your door! For a list of participating breweries visit http://www.nhbrewers.org. \nHow Can You Help Keep New Hampshire Brewing? Head to: https://tickets.beerfests.com/event/keepnhbrewing and purchase a ticket\, or a tshirt. Then grab some New Hampshire beers and join craft beer lovers this Saturday from 2-6PM on social media. \nFacebook @nhbrewers \nInstagram @nhbeertrail \nTwitter @nh_brewers \n#keepnhbrewing #nhbrewers #nhcraftbeer #nhbeer \nThis Saturday -stay home\, crack open a beer\, and do all the festival things you normally would. Then post photos\, comments\, and interact with the brewers using the hashtag\, #Keepnhbrewing. \nLocal restaurants have been encouraged to offer delivery or carryout specials to anyone with a festival ticket and the NH Brewers Association will share their restaurant information in the event as well to help promote the hospitality industry\, do there is a true food truck vibe to the day.  There will also be live music streaming as well by a few local artists. \nDetails for where to log in/tune in will be sent to fest-goers within 24 hours of the gate’s opening at the virtual event. \nProceeds benefit The New Hampshire Brewers Association\, a nonprofit organization working to keep New Hampshire brewing. Plus\, a portion of the proceeds will be donated to the New Hampshire Employee Hospitality Relief Fund helping support hospitality workers affected by Covid-19. \nFind full Details on the Keep NH Brewing Virtual Beer Fest Event: \nhttps://tickets.beerfests.com/event/keepnhbrewing \n#KEEPNHBREWING 
URL:https://theriverboston.com/events/212336/
ORGANIZER;CN="Granite%20State%20Brewers%20Association":MAILTO:cjwhite@nhbrewers.org
END:VEVENT
END:VCALENDAR