BEGIN:VCALENDAR
VERSION:2.0
PRODID:-//92.5 the River - ECPv5.16.3.1//NONSGML v1.0//EN
CALSCALE:GREGORIAN
METHOD:PUBLISH
X-WR-CALNAME:92.5 the River
X-ORIGINAL-URL:https://theriverboston.com
X-WR-CALDESC:Events for 92.5 the River
BEGIN:VTIMEZONE
TZID:America/New_York
BEGIN:DAYLIGHT
TZOFFSETFROM:-0500
TZOFFSETTO:-0400
TZNAME:EDT
DTSTART:20220313T070000
END:DAYLIGHT
BEGIN:STANDARD
TZOFFSETFROM:-0400
TZOFFSETTO:-0500
TZNAME:EST
DTSTART:20221106T060000
END:STANDARD
END:VTIMEZONE
BEGIN:VEVENT
DTSTART;TZID=America/New_York:20220125T200000
DTEND;TZID=America/New_York:20220125T200000
DTSTAMP:20260420T002512
CREATED:20220110T184118Z
LAST-MODIFIED:20220110T184155Z
UID:215471-1643140800-1643140800@theriverboston.com
SUMMARY:Citizen Cope @ The Historic Theater
DESCRIPTION: Come see Citizen Cope live in Portsmouth\, NH! \nGet up close and personal with the most talented musicians of our time\, from living legends to alt-rock stars.\nCitizen Cope\, aka Clarence Greenwood\, is an American songwriter/producer. Describing his music is difficult\, he’s been inspired by artists such as John Lennon and Stevie Wonder to Bob Marley and Outkast. In 20 years of touring\, he has built a devout following\, performing at sold out theaters and ballrooms across the country. Over time\, Cope’s music has become the soundtrack to the lives of those who have embraced it and he continues to inspire audiences through what can only be described as deep personal connection. \nTo purchase tickers and for more information\, click here. \nCOVID-19 POLICY: Before entering the building\, everyone must wear masks\, per the City of Portsmouth mandate\, in addition to showing proof of vaccination OR a negative test for live events.
URL:https://theriverboston.com/events/215471/
LOCATION:The Historic Theater\, 28 Chestnut Street\, Portsmouth\, NH\, 03801\, United States
END:VEVENT
END:VCALENDAR