BEGIN:VCALENDAR
VERSION:2.0
PRODID:-//92.5 the River - ECPv5.16.3.1//NONSGML v1.0//EN
CALSCALE:GREGORIAN
METHOD:PUBLISH
X-WR-CALNAME:92.5 the River
X-ORIGINAL-URL:https://theriverboston.com
X-WR-CALDESC:Events for 92.5 the River
BEGIN:VTIMEZONE
TZID:America/New_York
BEGIN:DAYLIGHT
TZOFFSETFROM:-0500
TZOFFSETTO:-0400
TZNAME:EDT
DTSTART:20170312T070000
END:DAYLIGHT
BEGIN:STANDARD
TZOFFSETFROM:-0400
TZOFFSETTO:-0500
TZNAME:EST
DTSTART:20171105T060000
END:STANDARD
END:VTIMEZONE
BEGIN:VEVENT
DTSTART;TZID=America/New_York:20170909T090000
DTEND;TZID=America/New_York:20170909T143000
DTSTAMP:20260419T084437
CREATED:20170802T141813Z
LAST-MODIFIED:20170802T141813Z
UID:52495-1504947600-1504967400@theriverboston.com
SUMMARY:25th Annual Free Family Fun Day at Seacost Science Center
DESCRIPTION:25th Annual FREE Family Fun Day at the Seacoast Science Center\nJoin our friends at the Seacoast Science Center in Rye\, NH on Saturday\, September 9th from 9:00am- 2:30pm for a FREE day of fun for the whole family! \nThere will be games\, activities\, touch-a-truck\, live music\, and free popcorn and cotton candy! \nCome celebrate 25 years of exceptional ocean education brought to you by the Seacoast Science Center! \n  \n  \n 
URL:https://theriverboston.com/events/25th-annual-free-family-fun-day-seacost-science-center/
LOCATION:Seacoast Science Center\, 570 Ocean Blvd\, Rye\, NH\, 03870\, United States
END:VEVENT
END:VCALENDAR