BEGIN:VCALENDAR
VERSION:2.0
PRODID:-//92.5 the River - ECPv5.16.3.1//NONSGML v1.0//EN
CALSCALE:GREGORIAN
METHOD:PUBLISH
X-WR-CALNAME:92.5 the River
X-ORIGINAL-URL:https://theriverboston.com
X-WR-CALDESC:Events for 92.5 the River
BEGIN:VTIMEZONE
TZID:America/New_York
BEGIN:DAYLIGHT
TZOFFSETFROM:-0500
TZOFFSETTO:-0400
TZNAME:EDT
DTSTART:20160313T070000
END:DAYLIGHT
BEGIN:STANDARD
TZOFFSETFROM:-0400
TZOFFSETTO:-0500
TZNAME:EST
DTSTART:20161106T060000
END:STANDARD
END:VTIMEZONE
BEGIN:VEVENT
DTSTART;TZID=America/New_York:20161031T210000
DTEND;TZID=America/New_York:20161101T004500
DTSTAMP:20260423T221943
CREATED:20161024T162250Z
LAST-MODIFIED:20161024T162435Z
UID:24146-1477947600-1477961100@theriverboston.com
SUMMARY:30th Annual Halloween Party @ Woodstock Inn
DESCRIPTION:This Halloween night join the Woodstock Inn\, Station & Brewery in North Woodstock\, NH for their 30th Annual Halloween Party. This fun-filled event will kick off at 9pm on Monday\, October 31st. The Chris White Band will be performing live! There will be raffles for dozens of great prizes\, and bring a carved pumpkin for a $10 Gift Card! The Best Pumpkin Contest winner receives a $100 Gift Card. So make a night of it and grab a room at 50% off\, Halloween night only. Dinner is also half-off if you come in a costume!\nA Halloween experience like this only comes around once a year\, so clear your calendar for this night of festivity! \n \nBook Early & Plan to stay late! Details at: http://woodstockinnnh.com/
URL:https://theriverboston.com/events/30th-annual-halloween-party-woodstock-inn/
LOCATION:Woodstock Inn\, Station & Brewery\, 135 Main St\, North Woodstock\, NH\, 03262\, United States
END:VEVENT
END:VCALENDAR