BEGIN:VCALENDAR
VERSION:2.0
PRODID:-//92.5 the River - ECPv5.16.3.1//NONSGML v1.0//EN
CALSCALE:GREGORIAN
METHOD:PUBLISH
X-WR-CALNAME:92.5 the River
X-ORIGINAL-URL:https://theriverboston.com
X-WR-CALDESC:Events for 92.5 the River
BEGIN:VTIMEZONE
TZID:America/New_York
BEGIN:DAYLIGHT
TZOFFSETFROM:-0500
TZOFFSETTO:-0400
TZNAME:EDT
DTSTART:20170312T070000
END:DAYLIGHT
BEGIN:STANDARD
TZOFFSETFROM:-0400
TZOFFSETTO:-0500
TZNAME:EST
DTSTART:20171105T060000
END:STANDARD
END:VTIMEZONE
BEGIN:VEVENT
DTSTART;TZID=America/New_York:20170819T100000
DTEND;TZID=America/New_York:20170819T120000
DTSTAMP:20260420T145613
CREATED:20170809T181346Z
LAST-MODIFIED:20170814T201916Z
UID:52802-1503136800-1503144000@theriverboston.com
SUMMARY:32nd Annual Tent Sale at the Stove Shoppe
DESCRIPTION:  \nJoin the River Roadies at The Stove Shoppe in Windham\, NH for the 32nd Annual Tent Sale! \nFind the amazing discounts on grills\, lampposts\, pellet stoves\, and even more under the tent from August 17th-20th! \nThe Roadies will be onsite for one day only\, August 19th from noon-2 so stop by for cornhole\, exclusive River merch\, and the best deals of the year! \nSee you there!
URL:https://theriverboston.com/events/32nd-annual-tent-sale-stove-shoppe/
LOCATION:The Stove Shoppe\, 25 Indian Rock Rd 111\, Windham\, NH\, 03087\, United States
END:VEVENT
END:VCALENDAR