BEGIN:VCALENDAR
VERSION:2.0
PRODID:-//92.5 the River - ECPv5.16.3.1//NONSGML v1.0//EN
CALSCALE:GREGORIAN
METHOD:PUBLISH
X-WR-CALNAME:92.5 the River
X-ORIGINAL-URL:https://theriverboston.com
X-WR-CALDESC:Events for 92.5 the River
BEGIN:VTIMEZONE
TZID:America/New_York
BEGIN:DAYLIGHT
TZOFFSETFROM:-0500
TZOFFSETTO:-0400
TZNAME:EDT
DTSTART:20190310T070000
END:DAYLIGHT
BEGIN:STANDARD
TZOFFSETFROM:-0400
TZOFFSETTO:-0500
TZNAME:EST
DTSTART:20191103T060000
END:STANDARD
END:VTIMEZONE
BEGIN:VEVENT
DTSTART;TZID=America/New_York:20190506T170000
DTEND;TZID=America/New_York:20190506T200000
DTSTAMP:20260420T192236
CREATED:20190327T134131Z
LAST-MODIFIED:20190327T154719Z
UID:207750-1557162000-1557172800@theriverboston.com
SUMMARY:35th Annual Business in the Arts Awards Gala
DESCRIPTION:Come to the 35th Annual Business in the Arts Awards Gala!\n\nHosted by the NH Business Committee for the Arts\, you won’t want to miss this exciting night of food\, entertainment and recognition.\nCelebrate those who have made a valuable impact on the arts economy in Concord and beyond.\n\nGet tickets before they sell out!
URL:https://theriverboston.com/events/35th-annual-business-in-the-arts-awards-gala/
LOCATION:DoubleTree by Hilton Manchester Downtown\, 700 Elm Street\, Manchester\, NH\, 03101\, United States
END:VEVENT
END:VCALENDAR