BEGIN:VCALENDAR
VERSION:2.0
PRODID:-//92.5 the River - ECPv5.16.3.1//NONSGML v1.0//EN
CALSCALE:GREGORIAN
METHOD:PUBLISH
X-WR-CALNAME:92.5 the River
X-ORIGINAL-URL:https://theriverboston.com
X-WR-CALDESC:Events for 92.5 the River
BEGIN:VTIMEZONE
TZID:America/New_York
BEGIN:DAYLIGHT
TZOFFSETFROM:-0500
TZOFFSETTO:-0400
TZNAME:EDT
DTSTART:20180311T070000
END:DAYLIGHT
BEGIN:STANDARD
TZOFFSETFROM:-0400
TZOFFSETTO:-0500
TZNAME:EST
DTSTART:20181104T060000
END:STANDARD
END:VTIMEZONE
BEGIN:VEVENT
DTSTART;VALUE=DATE:20181117
DTEND;VALUE=DATE:20181119
DTSTAMP:20260420T030505
CREATED:20181101T180858Z
LAST-MODIFIED:20181101T180858Z
UID:204001-1542412800-1542585599@theriverboston.com
SUMMARY:3S Artspace Form + Function Artisan Fair
DESCRIPTION:3S Artspace’s first ever artisan fair: Form + Function \nGet a head start on holiday shopping with their curated showcase of unique\, hand-crafted work by skilled artisans. There will be textiles\, housewares\, jewelry\, metal work\, accessories\, ceramics\, prints\, and more! Admission is free and open to the public. \nPlus live music\, food\, and a bar with brunch-style cocktails and beer and wine.
URL:https://theriverboston.com/events/3s-artspace-form-function-artisan-fair/
LOCATION:3S Artspace\, 319 Vaughan St.\, Portsmouth\, NH\, 03801\, United States
END:VEVENT
END:VCALENDAR