BEGIN:VCALENDAR
VERSION:2.0
PRODID:-//92.5 the River - ECPv5.16.3.1//NONSGML v1.0//EN
CALSCALE:GREGORIAN
METHOD:PUBLISH
X-WR-CALNAME:92.5 the River
X-ORIGINAL-URL:https://theriverboston.com
X-WR-CALDESC:Events for 92.5 the River
BEGIN:VTIMEZONE
TZID:America/New_York
BEGIN:DAYLIGHT
TZOFFSETFROM:-0500
TZOFFSETTO:-0400
TZNAME:EDT
DTSTART:20170312T070000
END:DAYLIGHT
BEGIN:STANDARD
TZOFFSETFROM:-0400
TZOFFSETTO:-0500
TZNAME:EST
DTSTART:20171105T060000
END:STANDARD
END:VTIMEZONE
BEGIN:VEVENT
DTSTART;TZID=America/New_York:20170722T120000
DTEND;TZID=America/New_York:20170722T160000
DTSTAMP:20260423T060446
CREATED:20170612T190008Z
LAST-MODIFIED:20181109T210449Z
UID:47665-1500724800-1500739200@theriverboston.com
SUMMARY:4th Annual NH Brewers Festival
DESCRIPTION:Join the New Hampshire Brewers Association for the 4th Annual NH Brewers Festival on Saturday\, July 22nd at Kiwanis Waterfront Park in Concord\, NH!  \nVIP admission begins at 12pm\, and General Admission at 1pm. \nEach ticket includes unlimited beer samples from a vast selection of NH craft breweries\, a souvenir taster glass\, musical entertainment and more! Food will be available for purchase from a variety of food vendors on site. \nThis event is rain or shine! There will be plenty of shade from the sun (or cover from rain) underneath the main event tent. \nGet your tickets today! \nThis is a 21+ event\, please bring a valid form of ID. \nWe encourage attendees to sample responsibly. Designated driver tickets are available at a discounted price.
URL:https://theriverboston.com/events/4th-annual-nh-brewers-festival/
LOCATION:Kiwanis State Park\, 15 Loudon Road \, Concord\, NH\, 03301\, United States
END:VEVENT
END:VCALENDAR