BEGIN:VCALENDAR
VERSION:2.0
PRODID:-//92.5 the River - ECPv5.16.3.1//NONSGML v1.0//EN
CALSCALE:GREGORIAN
METHOD:PUBLISH
X-WR-CALNAME:92.5 the River
X-ORIGINAL-URL:https://theriverboston.com
X-WR-CALDESC:Events for 92.5 the River
BEGIN:VTIMEZONE
TZID:America/New_York
BEGIN:DAYLIGHT
TZOFFSETFROM:-0500
TZOFFSETTO:-0400
TZNAME:EDT
DTSTART:20150308T070000
END:DAYLIGHT
BEGIN:STANDARD
TZOFFSETFROM:-0400
TZOFFSETTO:-0500
TZNAME:EST
DTSTART:20151101T060000
END:STANDARD
END:VTIMEZONE
BEGIN:VEVENT
DTSTART;VALUE=DATE:20150503
DTEND;VALUE=DATE:20150504
DTSTAMP:20260424T073300
CREATED:20150216T190851Z
LAST-MODIFIED:20150306T174600Z
UID:6329-1430611200-1430697599@theriverboston.com
SUMMARY:Earth Rock Run Half Marathon
DESCRIPTION:The Align Credit Union Race Series Presents:\nThe Earth Rock Run Half Marathon\nRace time: 10 AM\n \nJoin us for the second annual Earth Rock Run\, a fun and exciting spring option for anyone who loves the challenge of running\, post-race parties with live music (on and off the course) and the celebration of Earth Day. \nAttention!!!  For all those who ran last year\, they were pleasantly surprised to see that ALL of them who were pre-registered received an awesome recycled hoodie AND a recycled t-shirt.  WE ARE DOING THAT AGAIN!  So this year\, you need to get in before we sell-out! \nRace day schedule\, course information\, and more available from Greenstride.
URL:https://theriverboston.com/events/6329/
LOCATION:Jimmy’s Pizza\, 1595 Osgood Street\, North Andover\, 01845
ORGANIZER;CN="Green%20Stride":MAILTO:racedirector@greenstrideraces.com
END:VEVENT
END:VCALENDAR