BEGIN:VCALENDAR
VERSION:2.0
PRODID:-//92.5 the River - ECPv5.16.3.1//NONSGML v1.0//EN
CALSCALE:GREGORIAN
METHOD:PUBLISH
X-WR-CALNAME:92.5 the River
X-ORIGINAL-URL:https://theriverboston.com
X-WR-CALDESC:Events for 92.5 the River
BEGIN:VTIMEZONE
TZID:America/New_York
BEGIN:DAYLIGHT
TZOFFSETFROM:-0500
TZOFFSETTO:-0400
TZNAME:EDT
DTSTART:20180311T070000
END:DAYLIGHT
BEGIN:STANDARD
TZOFFSETFROM:-0400
TZOFFSETTO:-0500
TZNAME:EST
DTSTART:20181104T060000
END:STANDARD
END:VTIMEZONE
BEGIN:VEVENT
DTSTART;TZID=America/New_York:20181101T180000
DTEND;TZID=America/New_York:20181101T203000
DTSTAMP:20260420T183115
CREATED:20181011T165205Z
LAST-MODIFIED:20181011T165720Z
UID:203114-1541095200-1541104200@theriverboston.com
SUMMARY:6TH ANNUAL DISTILLER’S SHOWCASE
DESCRIPTION:Featuring more than 130 tables of premium and ultra-premium spirits for sampling\, the Distiller’s Showcase will take place on Thursday\, November 1\, at the Manchester Downtown Hotel from 6 to 8:30 PM. The event provides the opportunity for guests to meet distillers from around the world\, while sampling food from New Hampshire’s top restaurants. Many of the spirits available for sampling and purchase during the Distiller’s Showcase are only available at NHLC’s 79 New Hampshire Liquor & Wine Outlets. In addition to a silent auction\, the Distiller’s Showcase guests will also have the chance to bid on multiple bottles of the extremely rare Pappy Van Winkle’s Family Reserve 23yr Kentucky straight bourbon. For the first time this year\, each table will feature a signature cocktail for guests to try\, in addition to spirit sampling. \nFor the first time\, the Distiller’s Showcase will take place in the Manchester Downtown Hotel’s expo center\, which will allow for a capacity crowd of 1\,500 guests. The expanded space will allow more restaurants to participate this year; thus far\, the still-growing list of restaurants includes more than 20 top Granite State eateries\, including The Common Man\, Campo Enoteca\, Republic Cafe\, and Fratellos. Further utilizing the expanded space\, the Distiller’s Showcase will also feature a variety of themed areas\, including a speakeasy section\, a barber shop area to promote men’s health\, and a New Hampshire-made products section\, that will feature New Hampshire-made spirits. \nSince 2013\, the Distiller’s Showcase has raised more than $345\,000 to support ARLNH\, which relies on funding from the event to support operating expenses. ARLNH supports more than 2\,200 animals and their owners each year\, with nearly three-quarters of its operating budget going to animal care and medical expenses. \nNHLC is encouraging guests to imbibe responsibly and will feature a Brown-Forman social responsibility area during the Distiller’s Showcase. The Radisson Hotel Manchester is offering a special “sip and stay” package and a safe ride home program from Grace Limousine during the Distiller’s Showcase. For the Sip & Stay Package please contact the Manchester Downtown Hotel soon to be Doubletree by Hilton for reservations. The hotel can be reached at 603.625.1000. This package is available until October 11th.
URL:https://theriverboston.com/events/6th-annual-distillers-showcase/
LOCATION:Manchester Downtown Hotel\, 700 Elm Street\, Manchester\, NH\, 03101\, United States
END:VEVENT
END:VCALENDAR