BEGIN:VCALENDAR
VERSION:2.0
PRODID:-//92.5 the River - ECPv5.16.3.1//NONSGML v1.0//EN
CALSCALE:GREGORIAN
METHOD:PUBLISH
X-WR-CALNAME:92.5 the River
X-ORIGINAL-URL:https://theriverboston.com
X-WR-CALDESC:Events for 92.5 the River
BEGIN:VTIMEZONE
TZID:America/New_York
BEGIN:DAYLIGHT
TZOFFSETFROM:-0500
TZOFFSETTO:-0400
TZNAME:EDT
DTSTART:20170312T070000
END:DAYLIGHT
BEGIN:STANDARD
TZOFFSETFROM:-0400
TZOFFSETTO:-0500
TZNAME:EST
DTSTART:20171105T060000
END:STANDARD
END:VTIMEZONE
BEGIN:VEVENT
DTSTART;TZID=America/New_York:20170429T090000
DTEND;TZID=America/New_York:20170429T180000
DTSTAMP:20260425T183801
CREATED:20170425T155122Z
LAST-MODIFIED:20170427T210026Z
UID:42622-1493456400-1493488800@theriverboston.com
SUMMARY:8th Annual Goodale's Bike Shop Bike Swap
DESCRIPTION:Goodale’s Bike Shop in Nashua will be holding the 8th Annual Bike Swap on Saturday April 29th. Here is how it works: Drop off a bike in good working condition previously purchased at a bicycle store (department store bikes will not be accepted). ash only lines will be available this year for faster and smoother checkout.  Credit cards will also be accepted but will need to be rung out inside the store (this takes much longer!) The River Roadies will be on hand from 8AM to 10AM with the prize wheel and will be giving away tickets to the SOLD OUT Barenaked Ladies  Concert Saturday June 17th at the Casino Ballroom in Hampton New Hampshire
URL:https://theriverboston.com/events/8th-annual-goodales-bike-shop-bike-swap/
LOCATION:Goodale’s Bike Shop\, 14B Broad Street\, Nashua\, NH\, 03064\, United States
END:VEVENT
END:VCALENDAR