BEGIN:VCALENDAR
VERSION:2.0
PRODID:-//92.5 the River - ECPv5.16.3.1//NONSGML v1.0//EN
CALSCALE:GREGORIAN
METHOD:PUBLISH
X-WR-CALNAME:92.5 the River
X-ORIGINAL-URL:https://theriverboston.com
X-WR-CALDESC:Events for 92.5 the River
BEGIN:VTIMEZONE
TZID:America/New_York
BEGIN:DAYLIGHT
TZOFFSETFROM:-0500
TZOFFSETTO:-0400
TZNAME:EDT
DTSTART:20180311T070000
END:DAYLIGHT
BEGIN:STANDARD
TZOFFSETFROM:-0400
TZOFFSETTO:-0500
TZNAME:EST
DTSTART:20181104T060000
END:STANDARD
END:VTIMEZONE
BEGIN:VEVENT
DTSTART;TZID=America/New_York:20180919T190000
DTEND;TZID=America/New_York:20180919T220000
DTSTAMP:20260422T200703
CREATED:20180914T174952Z
LAST-MODIFIED:20181109T210142Z
UID:200310-1537383600-1537394400@theriverboston.com
SUMMARY:92.5 the River Presents Citizen Cope at The Cabot
DESCRIPTION:92.5 the River presents Citizen Cope at the Cabot!\nJoin us for an intimate solo and acoustic listening performance by Citizen Cope at The Cabot on September 19th! \n“Rawness improbably balanced by a mixture of danger and delicacy\,” says one Rolling Stone writer\, “is what gives Citizen Cope his edge. As a singer\, songwriter and producer\, he stands alone—an artist immune to corruption.” \nTickets are on-sale now. $1 from every ticket will be donated to various charities in the US that support enriching youths in need through arts and education.  For more information visit http://www.citizencope.com. You can also win tickets from the River if you enter to win before Monday 9/17!
URL:https://theriverboston.com/events/92-5-the-river-presents-citizen-cope-at-the-cabot/
END:VEVENT
END:VCALENDAR