BEGIN:VCALENDAR
VERSION:2.0
PRODID:-//92.5 the River - ECPv5.16.3.1//NONSGML v1.0//EN
CALSCALE:GREGORIAN
METHOD:PUBLISH
X-WR-CALNAME:92.5 the River
X-ORIGINAL-URL:https://theriverboston.com
X-WR-CALDESC:Events for 92.5 the River
BEGIN:VTIMEZONE
TZID:America/New_York
BEGIN:DAYLIGHT
TZOFFSETFROM:-0500
TZOFFSETTO:-0400
TZNAME:EDT
DTSTART:20180311T070000
END:DAYLIGHT
BEGIN:STANDARD
TZOFFSETFROM:-0400
TZOFFSETTO:-0500
TZNAME:EST
DTSTART:20181104T060000
END:STANDARD
END:VTIMEZONE
BEGIN:VEVENT
DTSTART;TZID=America/New_York:20180928T190000
DTEND;TZID=America/New_York:20180928T190000
DTSTAMP:20260422T044042
CREATED:20180712T155738Z
LAST-MODIFIED:20180717T204743Z
UID:98090-1538161200-1538161200@theriverboston.com
SUMMARY:92.5 The River Presents: Frank Turner at the Casino Ballroom
DESCRIPTION:92.5 the River presents Frank Turner at the Casino Ballroom\nFrank Turner is coming to the Hampton Beach Casino Ballroom with the Sleeping Souls\, Bad Cop Bad Cop\, and Sam Coffey and the Iron Lungs! \nThis is a part of his Be More Kind tour from his new album\, out now. The show is 18+. \nTickets are on sale now!
URL:https://theriverboston.com/events/92-5-the-river-presents-frank-turner-casino-ballroom/
LOCATION:Casino Ballroom\, 169 Ocean Boulevard\, Hampton\, NH\, 03842\, United States
ORGANIZER;CN="92.5%20the%20River":MAILTO:promotions@wxrv.com
END:VEVENT
END:VCALENDAR