BEGIN:VCALENDAR
VERSION:2.0
PRODID:-//92.5 the River - ECPv5.16.3.1//NONSGML v1.0//EN
CALSCALE:GREGORIAN
METHOD:PUBLISH
X-WR-CALNAME:92.5 the River
X-ORIGINAL-URL:https://theriverboston.com
X-WR-CALDESC:Events for 92.5 the River
BEGIN:VTIMEZONE
TZID:America/New_York
BEGIN:DAYLIGHT
TZOFFSETFROM:-0500
TZOFFSETTO:-0400
TZNAME:EDT
DTSTART:20190310T070000
END:DAYLIGHT
BEGIN:STANDARD
TZOFFSETFROM:-0400
TZOFFSETTO:-0500
TZNAME:EST
DTSTART:20191103T060000
END:STANDARD
END:VTIMEZONE
BEGIN:VEVENT
DTSTART;TZID=America/New_York:20191207T130000
DTEND;TZID=America/New_York:20191207T210000
DTSTAMP:20260423T150146
CREATED:20190819T173205Z
LAST-MODIFIED:20191105T200246Z
UID:210265-1575723600-1575752400@theriverboston.com
SUMMARY:A Charlie Brown Xmas in Lowell
DESCRIPTION:Charlie Brown Christmas Live On Stage is coming to Lowell!\nCome see Charlie Brown\, Snoopy\, and the Peanuts gang in their Christmas play where they learn the true meaning of the holiday. With the unforgettable music of Vince Guaraldi\, Charlie Brown Christmas Live On Stage is an event the whole family will love! \nEnter To Win Now Through 11/10 On Our Tickets & Exclusive Offers Page! \n Buy tickets for the 1p-3p show \nBuy tickets for the 4p-6p show \nBuy tickets for the 7p-9p show \nPresented by:
URL:https://theriverboston.com/events/a-charlie-brown-xmas-in-lowell/
LOCATION:Lowell Memorial Auditorium\, 50 E. Merrimack Street\, Lowell\, MA\, 01852\, United States
ORGANIZER;CN="Spectacle%20Management":MAILTO:info@spectaclemanagement.net
END:VEVENT
END:VCALENDAR