BEGIN:VCALENDAR
VERSION:2.0
PRODID:-//92.5 the River - ECPv5.16.3.1//NONSGML v1.0//EN
CALSCALE:GREGORIAN
METHOD:PUBLISH
X-WR-CALNAME:92.5 the River
X-ORIGINAL-URL:https://theriverboston.com
X-WR-CALDESC:Events for 92.5 the River
BEGIN:VTIMEZONE
TZID:America/New_York
BEGIN:DAYLIGHT
TZOFFSETFROM:-0500
TZOFFSETTO:-0400
TZNAME:EDT
DTSTART:20230312T070000
END:DAYLIGHT
BEGIN:STANDARD
TZOFFSETFROM:-0400
TZOFFSETTO:-0500
TZNAME:EST
DTSTART:20231105T060000
END:STANDARD
END:VTIMEZONE
BEGIN:VEVENT
DTSTART;TZID=America/New_York:20231224T140000
DTEND;TZID=America/New_York:20231224T153000
DTSTAMP:20260425T132430
CREATED:20231122T163919Z
LAST-MODIFIED:20231122T163919Z
UID:222131-1703426400-1703431800@theriverboston.com
SUMMARY:A Christmas Carol at Merrimack Repertory Theatre - Closing Night
DESCRIPTION:BUY TICKETS HERE\nA CHRISTMAS CAROL | NOV 29-DEC 24\nBy Charles Dickens Adapted and Directed by Courtney Sale\nBack by popular demand! With a nod to Dickens’ time in Lowell and featuring the extraordinary talent of local young artists. A holiday treat for the entire family! Experience Charles Dickens’ timeless yuletide story of transformation and redemption\, featuring Ebenezer Scrooge\, Tiny Tim\, and all of your favorite characters\, including some played by local youth. Spooky\, heartwarming\, and joyful – with a touch of Lowell lore\, it’s the perfect way for families to recapture the spirit of Christmas and create memories for the future. \n“There is nothing in the world so irresistibly contagious as laughter and good humor.” ― Charles Dickens\, A Christmas Carol \nRecommended for age 8 and older.
URL:https://theriverboston.com/events/a-christmas-carol-at-merrimack-repertory-theatre-closing-night/
LOCATION:Merrimack Repertory Theatre\, 50 E Merrimack Street\, Lowell\, MA\, 01852\, United States
END:VEVENT
END:VCALENDAR