BEGIN:VCALENDAR
VERSION:2.0
PRODID:-//92.5 the River - ECPv5.16.3.1//NONSGML v1.0//EN
CALSCALE:GREGORIAN
METHOD:PUBLISH
X-WR-CALNAME:92.5 the River
X-ORIGINAL-URL:https://theriverboston.com
X-WR-CALDESC:Events for 92.5 the River
BEGIN:VTIMEZONE
TZID:America/New_York
BEGIN:DAYLIGHT
TZOFFSETFROM:-0500
TZOFFSETTO:-0400
TZNAME:EDT
DTSTART:20160313T070000
END:DAYLIGHT
BEGIN:STANDARD
TZOFFSETFROM:-0400
TZOFFSETTO:-0500
TZNAME:EST
DTSTART:20161106T060000
END:STANDARD
END:VTIMEZONE
BEGIN:VEVENT
DTSTART;TZID=America/New_York:20160227T200000
DTEND;TZID=America/New_York:20160227T230000
DTSTAMP:20260420T170012
CREATED:20160112T143926Z
LAST-MODIFIED:20160112T143926Z
UID:9667-1456603200-1456614000@theriverboston.com
SUMMARY:"A Night with Janis Joplin" at the Lynn Auditorium!
DESCRIPTION:“A Night with Janis Joplin” at the Lynn Auditorium!\n\nCome listen to the music of Janis Joplin and some of her biggest influences\, including Aretha Franklin\, Etta James\, Bessie Smith\, and more!\nTo learn more and buy your tickets click HERE!
URL:https://theriverboston.com/events/a-night-with-janis-joplin/
LOCATION:Lynn Auditorium\, 3 City Hall Square\, Lynn\, MA\, 01901\, United States
END:VEVENT
END:VCALENDAR