BEGIN:VCALENDAR
VERSION:2.0
PRODID:-//92.5 the River - ECPv5.16.3.1//NONSGML v1.0//EN
CALSCALE:GREGORIAN
METHOD:PUBLISH
X-WR-CALNAME:92.5 the River
X-ORIGINAL-URL:https://theriverboston.com
X-WR-CALDESC:Events for 92.5 the River
BEGIN:VTIMEZONE
TZID:America/New_York
BEGIN:DAYLIGHT
TZOFFSETFROM:-0500
TZOFFSETTO:-0400
TZNAME:EDT
DTSTART:20230312T070000
END:DAYLIGHT
BEGIN:STANDARD
TZOFFSETFROM:-0400
TZOFFSETTO:-0500
TZNAME:EST
DTSTART:20231105T060000
END:STANDARD
END:VTIMEZONE
BEGIN:VEVENT
DTSTART;TZID=America/New_York:20231209T100000
DTEND;TZID=America/New_York:20231210T160000
DTSTAMP:20260425T102406
CREATED:20231026T151422Z
LAST-MODIFIED:20231101T202006Z
UID:221768-1702116000-1702224000@theriverboston.com
SUMMARY:Very Merry Holiday Gift Festival
DESCRIPTION:Get in the holiday spirit and find unique local products and gifts for everyone on your list at at the Very Merry Holiday Gift Festival\, your one-stop holiday gift shop! Browse a variety of vendor booths and support local small businesses while doing all of your holiday shopping! Plus\, enjoy vendor demonstrations\, kids activities\, a visit from Santa\, a special kid-only shopping area\, festive sounds of the season live from the expo stage and more! \nTicket Prices (available online and at the door)\nAdults: $7\nSeniors (65+): $6\nChildren Under 14: FREE \nDecember 9th\, 10AM-6PM \nDecember 10th\, 10AM-4PM
URL:https://theriverboston.com/events/a-very-merry-holiday-gift-festival/
LOCATION:DoubleTree by Hilton Manchester Downtown\, 700 Elm Street\, Manchester\, NH\, 03101\, United States
END:VEVENT
END:VCALENDAR