BEGIN:VCALENDAR
VERSION:2.0
PRODID:-//92.5 the River - ECPv5.16.3.1//NONSGML v1.0//EN
CALSCALE:GREGORIAN
METHOD:PUBLISH
X-WR-CALNAME:92.5 the River
X-ORIGINAL-URL:https://theriverboston.com
X-WR-CALDESC:Events for 92.5 the River
BEGIN:VTIMEZONE
TZID:America/New_York
BEGIN:DAYLIGHT
TZOFFSETFROM:-0500
TZOFFSETTO:-0400
TZNAME:EDT
DTSTART:20210314T070000
END:DAYLIGHT
BEGIN:STANDARD
TZOFFSETFROM:-0400
TZOFFSETTO:-0500
TZNAME:EST
DTSTART:20211107T060000
END:STANDARD
END:VTIMEZONE
BEGIN:VEVENT
DTSTART;TZID=America/New_York:20211110T190000
DTEND;TZID=America/New_York:20211110T190000
DTSTAMP:20260421T023915
CREATED:20211103T145621Z
LAST-MODIFIED:20211103T145621Z
UID:215066-1636570800-1636570800@theriverboston.com
SUMMARY:Aaron Lee Tasjan @ Brighton Music Hall
DESCRIPTION:Aaron Lee Tasjan\nNovember 10th | 7pm\nBrighton Music Hall\nBuy tickets \nAaron Lee Tasjan is coming to Boston to share his version of “indie folk grit”. With special guest Tristen\, Tasjan will be performing in support of his newest album\, Tasjan! Tasjan! Tasjan!
URL:https://theriverboston.com/events/aaron-lee-tasjan-brighton-music-hall/
LOCATION:Brighton Music Hall\, 158 Brighton Ave\, Allston\, MA\, 02134\, United States
END:VEVENT
END:VCALENDAR