BEGIN:VCALENDAR
VERSION:2.0
PRODID:-//92.5 the River - ECPv5.16.3.1//NONSGML v1.0//EN
CALSCALE:GREGORIAN
METHOD:PUBLISH
X-WR-CALNAME:92.5 the River
X-ORIGINAL-URL:https://theriverboston.com
X-WR-CALDESC:Events for 92.5 the River
BEGIN:VTIMEZONE
TZID:America/New_York
BEGIN:DAYLIGHT
TZOFFSETFROM:-0500
TZOFFSETTO:-0400
TZNAME:EDT
DTSTART:20170312T070000
END:DAYLIGHT
BEGIN:STANDARD
TZOFFSETFROM:-0400
TZOFFSETTO:-0500
TZNAME:EST
DTSTART:20171105T060000
END:STANDARD
END:VTIMEZONE
BEGIN:VEVENT
DTSTART;TZID=America/New_York:20170811T190000
DTEND;TZID=America/New_York:20170811T190000
DTSTAMP:20260421T083731
CREATED:20170503T182804Z
LAST-MODIFIED:20170607T172803Z
UID:43344-1502478000-1502478000@theriverboston.com
SUMMARY:Aaron Neville | Prescott Park Arts Festival
DESCRIPTION:The River House Restaurant Concert Series\nAaron Neville will be at Prescott Park in Portsmouth\, NH\nFriday\, August 11th at 7:00 PM. \nEach Wednesday (and other nights) throughout the summer at Prescott Park\, you’ll find some top-notch and riveting performers from around the globe. All offered in a gorgeous setting for a mere suggested $8 – $10 donation. \nReserve a table or blanket here!
URL:https://theriverboston.com/events/aaron-neville/
LOCATION:Prescott Park\, 105 Marcy Street\, Portsmouth\, NH\, 03801\, United States
END:VEVENT
END:VCALENDAR