BEGIN:VCALENDAR
VERSION:2.0
PRODID:-//92.5 the River - ECPv5.16.3.1//NONSGML v1.0//EN
CALSCALE:GREGORIAN
METHOD:PUBLISH
X-WR-CALNAME:92.5 the River
X-ORIGINAL-URL:https://theriverboston.com
X-WR-CALDESC:Events for 92.5 the River
BEGIN:VTIMEZONE
TZID:America/New_York
BEGIN:DAYLIGHT
TZOFFSETFROM:-0500
TZOFFSETTO:-0400
TZNAME:EDT
DTSTART:20160313T070000
END:DAYLIGHT
BEGIN:STANDARD
TZOFFSETFROM:-0400
TZOFFSETTO:-0500
TZNAME:EST
DTSTART:20161106T060000
END:STANDARD
END:VTIMEZONE
BEGIN:VEVENT
DTSTART;TZID=America/New_York:20161106T140000
DTEND;TZID=America/New_York:20161106T160000
DTSTAMP:20260424T034532
CREATED:20161102T190948Z
LAST-MODIFIED:20161102T190948Z
UID:24584-1478440800-1478448000@theriverboston.com
SUMMARY:The Academy at Penguin Hall Open House!
DESCRIPTION:  \nVisit The Academy at Penguin Hall’s Open House this Sunday\, November 6th from 2:00-4:00 PM! \nDiscover the only all-girls preparatory school in Essex County. Meet with students\, speak with teachers\, and tour the extraordinary campus! Their mission is to educate\, enlighten and empower young women to live and to lead exemplary lives. \nThe Academy Penguin Hall \n36 Essex Street\, Wenham MA
URL:https://theriverboston.com/events/academy-penguin-hall-open-house/
LOCATION:The Academy at Penguin Hall\, 36 Essex St.\, Wenham\, MA\, United States
END:VEVENT
END:VCALENDAR