BEGIN:VCALENDAR
VERSION:2.0
PRODID:-//92.5 the River - ECPv5.16.3.1//NONSGML v1.0//EN
CALSCALE:GREGORIAN
METHOD:PUBLISH
X-WR-CALNAME:92.5 the River
X-ORIGINAL-URL:https://theriverboston.com
X-WR-CALDESC:Events for 92.5 the River
BEGIN:VTIMEZONE
TZID:America/New_York
BEGIN:DAYLIGHT
TZOFFSETFROM:-0500
TZOFFSETTO:-0400
TZNAME:EDT
DTSTART:20200308T070000
END:DAYLIGHT
BEGIN:STANDARD
TZOFFSETFROM:-0400
TZOFFSETTO:-0500
TZNAME:EST
DTSTART:20201101T060000
END:STANDARD
END:VTIMEZONE
BEGIN:VEVENT
DTSTART;TZID=America/New_York:20200320T190000
DTEND;TZID=America/New_York:20200322T170000
DTSTAMP:20260421T071651
CREATED:20200219T203012Z
LAST-MODIFIED:20200312T162446Z
UID:211857-1584730800-1584896400@theriverboston.com
SUMMARY:CANCELLED: ACE Comic Con At Boston Convention & Exhibition Center
DESCRIPTION:ACE Comic Con has been cancelled to minimize health risks in the community. We will update with more information once we are are notified with them. \nBelow is the official statement from The ACE Team:
URL:https://theriverboston.com/events/ace-comic-con-at-boston-convention-exhibition-center/
LOCATION:Boston Convention & Exhibition Center\, 415 Summer Street\, Boston\, MA\, 02210\, United States
END:VEVENT
END:VCALENDAR