BEGIN:VCALENDAR
VERSION:2.0
PRODID:-//92.5 the River - ECPv5.16.3.1//NONSGML v1.0//EN
CALSCALE:GREGORIAN
METHOD:PUBLISH
X-WR-CALNAME:92.5 the River
X-ORIGINAL-URL:https://theriverboston.com
X-WR-CALDESC:Events for 92.5 the River
BEGIN:VTIMEZONE
TZID:America/New_York
BEGIN:DAYLIGHT
TZOFFSETFROM:-0500
TZOFFSETTO:-0400
TZNAME:EDT
DTSTART:20170312T070000
END:DAYLIGHT
BEGIN:STANDARD
TZOFFSETFROM:-0400
TZOFFSETTO:-0500
TZNAME:EST
DTSTART:20171105T060000
END:STANDARD
END:VTIMEZONE
BEGIN:VEVENT
DTSTART;TZID=America/New_York:20170311T193000
DTEND;TZID=America/New_York:20170311T193000
DTSTAMP:20260425T202311
CREATED:20170124T173101Z
LAST-MODIFIED:20170126T163746Z
UID:33084-1489260600-1489260600@theriverboston.com
SUMMARY:An Acoustic Evening With Trey Anastasio @ The Music Hall Portsmouth
DESCRIPTION:Enter Here To Win Tickets.\nFor the last three decades\, Trey Anastasio has been the guitarist\, vocalist\, and frontman for Phish\, one of the most important and influential bands of the past two decades. Phish’s music and concert tours evolved into a way of life for millions of fans and changed the way people think of live music – and they’ve sold a few million albums\, too. Now\, he comes to The Music Hall\, for one of only three dates for his solo acoustic show this March. \nSee Trey Anastasio at The Music Hall in Portsmouth\, NH on March 11th
URL:https://theriverboston.com/events/acoustic-evening-trey-anastasio-music-hall-portsmouth/
LOCATION:The Music Hall\, 28 Chestnut Street\, Portsmouth\, NH\, 03801\, United States
END:VEVENT
END:VCALENDAR