BEGIN:VCALENDAR
VERSION:2.0
PRODID:-//92.5 the River - ECPv5.16.3.1//NONSGML v1.0//EN
CALSCALE:GREGORIAN
METHOD:PUBLISH
X-WR-CALNAME:92.5 the River
X-ORIGINAL-URL:https://theriverboston.com
X-WR-CALDESC:Events for 92.5 the River
BEGIN:VTIMEZONE
TZID:America/New_York
BEGIN:DAYLIGHT
TZOFFSETFROM:-0500
TZOFFSETTO:-0400
TZNAME:EDT
DTSTART:20190310T070000
END:DAYLIGHT
BEGIN:STANDARD
TZOFFSETFROM:-0400
TZOFFSETTO:-0500
TZNAME:EST
DTSTART:20191103T060000
END:STANDARD
END:VTIMEZONE
BEGIN:VEVENT
DTSTART;TZID=America/New_York:20191118T190000
DTEND;TZID=America/New_York:20191118T230000
DTSTAMP:20260422T122328
CREATED:20190610T181305Z
LAST-MODIFIED:20191114T153221Z
UID:209319-1574103600-1574118000@theriverboston.com
SUMMARY:Alice Merton on tour at the Paradise Rock Club!
DESCRIPTION:Singer-songwriter Alice Merton soared to the top of the charts with her hit single “No Roots” at the end of 2016. Three years later\, she released her debut album Mint\, which you now have the opportunity to see performed live at the Paradise Rock Club! \nWe are offering the possibility of winning two tickets to her November 18th concert all the way up until Friday at noon! If you find yourself out of luck\, no worries. Ticketmaster is selling tickets for $25 a piece!
URL:https://theriverboston.com/events/alice-merton-on-tour-at-the-paradise-rock-club/
LOCATION:Paradise Rock Club\, 967 Commonwealth Ave\, Boston\, MA\, 02215\, United States
END:VEVENT
END:VCALENDAR