BEGIN:VCALENDAR
VERSION:2.0
PRODID:-//92.5 the River - ECPv5.16.3.1//NONSGML v1.0//EN
CALSCALE:GREGORIAN
METHOD:PUBLISH
X-WR-CALNAME:92.5 the River
X-ORIGINAL-URL:https://theriverboston.com
X-WR-CALDESC:Events for 92.5 the River
BEGIN:VTIMEZONE
TZID:America/New_York
BEGIN:DAYLIGHT
TZOFFSETFROM:-0500
TZOFFSETTO:-0400
TZNAME:EDT
DTSTART:20170312T070000
END:DAYLIGHT
BEGIN:STANDARD
TZOFFSETFROM:-0400
TZOFFSETTO:-0500
TZNAME:EST
DTSTART:20171105T060000
END:STANDARD
END:VTIMEZONE
BEGIN:VEVENT
DTSTART;TZID=America/New_York:20170503T180000
DTEND;TZID=America/New_York:20170503T193000
DTSTAMP:20260425T164756
CREATED:20170328T205741Z
LAST-MODIFIED:20170329T193255Z
UID:39046-1493834400-1493839800@theriverboston.com
SUMMARY:Align Mortgages & Margaritas
DESCRIPTION:Buying a home for the first time (or the fifth time) can be intimidating. The paperwork. The process. The mortgage. Join us for an informal evening talking about all things home buying. We’ll make sure you’re on a path to home ownership that fits your needs and budget. Please enjoy a drink and some appetizers on us! \nTopics: \nDeveloping a budget and purchase plan \nUnderstanding and improving your credit score \nsearching for your dream home \nThe importance of getting pre-approved \nLoan options and closing costs \nRSVP early to an event near you by e-mailing Marketing@AlignCU.com \nAlign Credit Union is an Equal Housing Lender.
URL:https://theriverboston.com/events/align-mortgages-margaritas-5/
LOCATION:Acapulcos Mexican Restaurant\, 88 Macy St\, Amesbury\, MA\, 01913\, United States
END:VEVENT
END:VCALENDAR