BEGIN:VCALENDAR
VERSION:2.0
PRODID:-//92.5 the River - ECPv5.16.3.1//NONSGML v1.0//EN
CALSCALE:GREGORIAN
METHOD:PUBLISH
X-WR-CALNAME:92.5 the River
X-ORIGINAL-URL:https://theriverboston.com
X-WR-CALDESC:Events for 92.5 the River
BEGIN:VTIMEZONE
TZID:America/New_York
BEGIN:DAYLIGHT
TZOFFSETFROM:-0500
TZOFFSETTO:-0400
TZNAME:EDT
DTSTART:20150308T070000
END:DAYLIGHT
BEGIN:STANDARD
TZOFFSETFROM:-0400
TZOFFSETTO:-0500
TZNAME:EST
DTSTART:20151101T060000
END:STANDARD
END:VTIMEZONE
BEGIN:VEVENT
DTSTART;TZID=America/New_York:20150809T180000
DTEND;TZID=America/New_York:20150809T230000
DTSTAMP:20260420T123710
CREATED:20150619T193027Z
LAST-MODIFIED:20150619T193459Z
UID:7433-1439143200-1439161200@theriverboston.com
SUMMARY:American Authors + Andy Grammar Coming to Casino Ballroom This August
DESCRIPTION:American Authors + Andy Grammar\nGet your tickets before they sell out ! \n\nAmerican Authors and Andy Grammar are coming this summer to Casino Ballroom on August 9th! Come hear the group that was formed at Boston’s Berklee College of Music along with the talented Andy Grammar who continues to climb the Billboard Hot 100 while simultaneously hitting #1 on iTunes’ pop!. Find out more information on Casino Ballroom’s Facebook & Twitter. \n\n 
URL:https://theriverboston.com/events/american-authors-andy-grammar-coming-to-casino-ballroom-this-august/
LOCATION:Casino Ballroom\, 169 Ocean Boulevard\, Hampton\, NH\, 03842\, United States
END:VEVENT
END:VCALENDAR