BEGIN:VCALENDAR
VERSION:2.0
PRODID:-//92.5 the River - ECPv5.16.3.1//NONSGML v1.0//EN
CALSCALE:GREGORIAN
METHOD:PUBLISH
X-WR-CALNAME:92.5 the River
X-ORIGINAL-URL:https://theriverboston.com
X-WR-CALDESC:Events for 92.5 the River
BEGIN:VTIMEZONE
TZID:America/New_York
BEGIN:DAYLIGHT
TZOFFSETFROM:-0500
TZOFFSETTO:-0400
TZNAME:EDT
DTSTART:20240310T070000
END:DAYLIGHT
BEGIN:STANDARD
TZOFFSETFROM:-0400
TZOFFSETTO:-0500
TZNAME:EST
DTSTART:20241103T060000
END:STANDARD
END:VTIMEZONE
BEGIN:VEVENT
DTSTART;TZID=America/New_York:20241116T200000
DTEND;TZID=America/New_York:20241116T200000
DTSTAMP:20260419T183312
CREATED:20240916T190019Z
LAST-MODIFIED:20240916T190019Z
UID:225130-1731787200-1731787200@theriverboston.com
SUMMARY:American Authors at The Cut in Gloucester
DESCRIPTION:Buy Tickets Here\nAMERICAN AUTHORS LIVE\nDoors: 7:30 PM\nShow: 8 PM\nSince releasing their debut album Oh\, What a Life in 2014\, New York-based pop-rock outfit American Authors have experienced milestones most bands only dream about. They’ve watched their music climb to the top of the charts\, and seen singles go multi-platinum. They’ve played awards shows\, hit the stages of legendary venues all over the world\, and toured the world with bands such as Andy Grammar\, OAR\, OneRepublic\, The Revivalists\, and The Fray. Their anthemic hit single “Best Day of My Life” has been featured in over 600 movie trailers\, TV shows\, commercials\, and as a theme song for the Stanley Cup Playoffs. Despite these accolades\, however\, lead singer Zac Barnett vows that the best day of their lives is still yet to come. “We just want to keep going\,” he says. “We can’t wait to continue this adventure.” \nOriginally formed in 2006 at Berklee College of Music in Boston\, American Authors – Zac Barnett [vocals/guitar]\, Dave Rublin [bass]\, and Matt Sanchez [drums] – eventually dropped out of college and moved to Brooklyn to continue refining their airtight songcraft. \nBy 2018\, the guys had impressively generated over 1 billion global streams on a string of alternately striking and soaring smashes. Their inescapable and instantly recognizable breakthrough “Best Day of My Life” earned a triple-platinum certification from the RIAA and vaulted to #11 on the Billboard Hot 100 in addition to receiving countless film\, television\, video game\, and sports syncs. Their 2014 full-length debut\, Oh\, What A Life\, achieved gold status\, while the follow-up What We Live For\, spawned another Top 20 hit\, “Go Big or Go Home\,” in 2016. Along the way\, they sold out shows around the globe and ignited stages at festivals\, including Lollapalooza\, Firefly Music Festival\, BottleRock Napa Valley\, Reading Festival\, and Leeds Festival\, to name a few. \nThe band is putting the finishing touches on their 5th full length LP\, Call Your Mother\, due in October 2024\, that includes the new folk-tinged singles “Daisies”\, “My Last Dime”\, and “Can’t Stand the Mourning”. \n\nFIND MORE SHOWS AT THE CUT
URL:https://theriverboston.com/events/american-authors-the-cut/
LOCATION:The Cut Live\, 177 Main St\, Gloucester\, MA\, 01930\, United States
END:VEVENT
END:VCALENDAR