BEGIN:VCALENDAR
VERSION:2.0
PRODID:-//92.5 the River - ECPv5.16.3.1//NONSGML v1.0//EN
CALSCALE:GREGORIAN
METHOD:PUBLISH
X-WR-CALNAME:92.5 the River
X-ORIGINAL-URL:https://theriverboston.com
X-WR-CALDESC:Events for 92.5 the River
BEGIN:VTIMEZONE
TZID:America/New_York
BEGIN:DAYLIGHT
TZOFFSETFROM:-0500
TZOFFSETTO:-0400
TZNAME:EDT
DTSTART:20160313T070000
END:DAYLIGHT
BEGIN:STANDARD
TZOFFSETFROM:-0400
TZOFFSETTO:-0500
TZNAME:EST
DTSTART:20161106T060000
END:STANDARD
END:VTIMEZONE
BEGIN:VEVENT
DTSTART;TZID=America/New_York:20160819T193000
DTEND;TZID=America/New_York:20160819T230000
DTSTAMP:20260419T230414
CREATED:20160811T161751Z
LAST-MODIFIED:20160811T161751Z
UID:18793-1471635000-1471647600@theriverboston.com
SUMMARY:Anders Osborne @ The Flying Monkey
DESCRIPTION:See Anders Osborne perform live at The Flying Monkey in Plymouth NH \nFor more info\, click here!
URL:https://theriverboston.com/events/anders-osborne-flying-monkey/
LOCATION:Flying Monkey Movie House and Performance Center\, 39 South Main Street\, Plymouth\, NH\, 03264\, United States
END:VEVENT
END:VCALENDAR