BEGIN:VCALENDAR
VERSION:2.0
PRODID:-//92.5 the River - ECPv5.16.3.1//NONSGML v1.0//EN
CALSCALE:GREGORIAN
METHOD:PUBLISH
X-WR-CALNAME:92.5 the River
X-ORIGINAL-URL:https://theriverboston.com
X-WR-CALDESC:Events for 92.5 the River
BEGIN:VTIMEZONE
TZID:America/New_York
BEGIN:DAYLIGHT
TZOFFSETFROM:-0500
TZOFFSETTO:-0400
TZNAME:EDT
DTSTART:20190310T070000
END:DAYLIGHT
BEGIN:STANDARD
TZOFFSETFROM:-0400
TZOFFSETTO:-0500
TZNAME:EST
DTSTART:20191103T060000
END:STANDARD
END:VTIMEZONE
BEGIN:VEVENT
DTSTART;TZID=America/New_York:20190921T193000
DTEND;TZID=America/New_York:20190921T193000
DTSTAMP:20260420T140224
CREATED:20190328T200954Z
LAST-MODIFIED:20190329T133535Z
UID:207813-1569094200-1569094200@theriverboston.com
SUMMARY:Andrew Bird with Calexico and Iron & Wine at the Rockland Trust Bank Pavilion!
DESCRIPTION:Andrew Bird\, Calexico\, and Iron & Wine are coming to Boston!\nThree great artists are headlining a phenomenal night of music with Calexico and Iron & Wine performing their set together! \nTickets go on sale Friday\, March 29th and can be purchased here. \nThis great show is brought to you by:
URL:https://theriverboston.com/events/andrew-bird-with-calexico-and-iron-wine-at-the-rockland-trust-bank-pavilion/
LOCATION:Rockland Trust Bank Pavilion\, 290 Northern Avenue\, Boston\, MA\, 02210\, United States
END:VEVENT
END:VCALENDAR