BEGIN:VCALENDAR
VERSION:2.0
PRODID:-//92.5 the River - ECPv5.16.3.1//NONSGML v1.0//EN
CALSCALE:GREGORIAN
METHOD:PUBLISH
X-WR-CALNAME:92.5 the River
X-ORIGINAL-URL:https://theriverboston.com
X-WR-CALDESC:Events for 92.5 the River
BEGIN:VTIMEZONE
TZID:America/New_York
BEGIN:DAYLIGHT
TZOFFSETFROM:-0500
TZOFFSETTO:-0400
TZNAME:EDT
DTSTART:20160313T070000
END:DAYLIGHT
BEGIN:STANDARD
TZOFFSETFROM:-0400
TZOFFSETTO:-0500
TZNAME:EST
DTSTART:20161106T060000
END:STANDARD
END:VTIMEZONE
BEGIN:VEVENT
DTSTART;VALUE=DATE:20161206
DTEND;VALUE=DATE:20161207
DTSTAMP:20260425T215539
CREATED:20161202T204540Z
LAST-MODIFIED:20161202T204540Z
UID:26890-1480982400-1480982400@theriverboston.com
SUMMARY:Announcing One Great Way To Give: Loretta’s and Our Neighbors’ Table
DESCRIPTION:Starting on Tuesday December 6th\, Loretta’s will be partnering with Our Neighbors’ Table throughout 2017.  Loretta’s will donate 15% of all sales on the first Tuesday of every month to Our Neighbors’ Table.\nOur Neighbors’ Table provides hunger relief to nearly 600 households every week through our local\, mobile and home-delivery grocery program. \nFor more information on Loretta’s\, located at 15 Pleasant St\, Newburyport MA\, visit their website http://www.lorettarestaurant.com or call 978-463-0000. For information about the mission and programs of Our Neighbors’ Table\, visit http://www.ourneighborstable.org. \n 
URL:https://theriverboston.com/events/announcing-one-great-way-give-lorettas-neighbors-table/
LOCATION:Loretta’s\, 15 Pleasant St\, Newburyport\, MA\, 01950\, United States
END:VEVENT
END:VCALENDAR