BEGIN:VCALENDAR
VERSION:2.0
PRODID:-//92.5 the River - ECPv5.16.3.1//NONSGML v1.0//EN
CALSCALE:GREGORIAN
METHOD:PUBLISH
X-WR-CALNAME:92.5 the River
X-ORIGINAL-URL:https://theriverboston.com
X-WR-CALDESC:Events for 92.5 the River
BEGIN:VTIMEZONE
TZID:America/New_York
BEGIN:DAYLIGHT
TZOFFSETFROM:-0500
TZOFFSETTO:-0400
TZNAME:EDT
DTSTART:20220313T070000
END:DAYLIGHT
BEGIN:STANDARD
TZOFFSETFROM:-0400
TZOFFSETTO:-0500
TZNAME:EST
DTSTART:20221106T060000
END:STANDARD
END:VTIMEZONE
BEGIN:VEVENT
DTSTART;TZID=America/New_York:20220301T193000
DTEND;TZID=America/New_York:20220301T193000
DTSTAMP:20260421T012228
CREATED:20220110T204324Z
LAST-MODIFIED:20220111T202546Z
UID:215482-1646163000-1646163000@theriverboston.com
SUMMARY:Aoife O'Donovan @ The Historic Theater
DESCRIPTION:Come See Aoife O’Donovan with Special Guest Yasmin Williams in Portsmouth\, NH!\n\nApart of the “Intimately Yours” series\, Aoife O’Donovan and Yasmin Williams will be live in Portsmouth\, NH!\nGrammy award-winning artist Aoife O’Donovan operates in a thrilling musical world beyond genre. Deemed “a vocalist of unerring instinct” by The New York Times\, she has released two critically-acclaimed and boundary-blurring solo albums including In the Magic Hour\, which Rolling Stone hailed for its “Impressionistic\, atmospheric songs [that] relay their narratives against gorgeous pastoral backdrops.” \nFor more information on their performance\, click here. \nCOVID-19 Policy:  Patrons\, staff\, and volunteers will need to show proof of full vaccination – 14 days past their final vaccination shot – OR proof of a negative COVID-19 test within three days of the event.
URL:https://theriverboston.com/events/aoife-odonovan-the-historic-theater/
LOCATION:The Historic Theater\, 28 Chestnut Street\, Portsmouth\, NH\, 03801\, United States
END:VEVENT
END:VCALENDAR