BEGIN:VCALENDAR
VERSION:2.0
PRODID:-//92.5 the River - ECPv5.16.3.1//NONSGML v1.0//EN
CALSCALE:GREGORIAN
METHOD:PUBLISH
X-WR-CALNAME:92.5 the River
X-ORIGINAL-URL:https://theriverboston.com
X-WR-CALDESC:Events for 92.5 the River
BEGIN:VTIMEZONE
TZID:America/New_York
BEGIN:DAYLIGHT
TZOFFSETFROM:-0500
TZOFFSETTO:-0400
TZNAME:EDT
DTSTART:20160313T070000
END:DAYLIGHT
BEGIN:STANDARD
TZOFFSETFROM:-0400
TZOFFSETTO:-0500
TZNAME:EST
DTSTART:20161106T060000
END:STANDARD
END:VTIMEZONE
BEGIN:VEVENT
DTSTART;TZID=America/New_York:20160819T200000
DTEND;TZID=America/New_York:20160819T230000
DTSTAMP:20260420T003201
CREATED:20160805T203850Z
LAST-MODIFIED:20160805T203850Z
UID:17029-1471636800-1471647600@theriverboston.com
SUMMARY:Aretha Franklin at Blue Hills Bank Pavilion!
DESCRIPTION:See Aretha Franklin LIVE at the Blue Hills Bank Pavilion! \nBuy tickets and find more info here!
URL:https://theriverboston.com/events/aretha-franklin-blue-hills-bank-pavilion/
LOCATION:Rockland Trust Bank Pavilion\, 290 Northern Avenue\, Boston\, MA\, 02210\, United States
END:VEVENT
END:VCALENDAR