BEGIN:VCALENDAR
VERSION:2.0
PRODID:-//92.5 the River - ECPv5.16.3.1//NONSGML v1.0//EN
CALSCALE:GREGORIAN
METHOD:PUBLISH
X-WR-CALNAME:92.5 the River
X-ORIGINAL-URL:https://theriverboston.com
X-WR-CALDESC:Events for 92.5 the River
BEGIN:VTIMEZONE
TZID:America/New_York
BEGIN:DAYLIGHT
TZOFFSETFROM:-0500
TZOFFSETTO:-0400
TZNAME:EDT
DTSTART:20250309T070000
END:DAYLIGHT
BEGIN:STANDARD
TZOFFSETFROM:-0400
TZOFFSETTO:-0500
TZNAME:EST
DTSTART:20251102T060000
END:STANDARD
END:VTIMEZONE
BEGIN:VEVENT
DTSTART;TZID=America/New_York:20250928T160000
DTEND;TZID=America/New_York:20250928T160000
DTSTAMP:20260422T181817
CREATED:20250919T170527Z
LAST-MODIFIED:20250919T170527Z
UID:228843-1759075200-1759075200@theriverboston.com
SUMMARY:Backseat Lovers at UNH
DESCRIPTION:View Tickets Here \nSCOPE PRESENTS 🪩THE BACKSEAT LOVERS\nA LOT\nFeaturing\n📀 JAKE MINCH and SNEAKY MILES📀\n⭐️ A VINYL HOUR FROM @WUNH ⭐️\n⭐️ VINTAGE MARKET FROM @select.markets VINTAGE ⭐️\n⭐️ SUNDAY\, SEPTEMBER 28th\n⭐A – LOT!\n⭐️ TICKETS ON SALE NOW\, MUBTICKETS.COM OR THE MUB TICKET OFFICE!\n⭐ BOTH STUDENT AND PUBLIC TICKETS AVAILABLE \nMORE ABOUT SCOPE \nMORE ABOUT THE BACKSEAT LOVERS
URL:https://theriverboston.com/events/backseat-lovers-unh/
LOCATION:A-Lot at UNH\, 15 Gables Way\, Durham\, NH\, 03824\, United States
END:VEVENT
END:VCALENDAR