BEGIN:VCALENDAR
VERSION:2.0
PRODID:-//92.5 the River - ECPv5.16.3.1//NONSGML v1.0//EN
CALSCALE:GREGORIAN
METHOD:PUBLISH
X-WR-CALNAME:92.5 the River
X-ORIGINAL-URL:https://theriverboston.com
X-WR-CALDESC:Events for 92.5 the River
BEGIN:VTIMEZONE
TZID:America/New_York
BEGIN:DAYLIGHT
TZOFFSETFROM:-0500
TZOFFSETTO:-0400
TZNAME:EDT
DTSTART:20250309T070000
END:DAYLIGHT
BEGIN:STANDARD
TZOFFSETFROM:-0400
TZOFFSETTO:-0500
TZNAME:EST
DTSTART:20251102T060000
END:STANDARD
END:VTIMEZONE
BEGIN:VEVENT
DTSTART;TZID=America/New_York:20250711T190000
DTEND;TZID=America/New_York:20250711T190000
DTSTAMP:20260419T084328
CREATED:20250210T184808Z
LAST-MODIFIED:20250210T184808Z
UID:226298-1752260400-1752260400@theriverboston.com
SUMMARY:Barenaked Ladies @ Leader Bank Pavilion
DESCRIPTION:Barenaked Ladies | Friday\, July 11th @ Leader Bank Pavilion \nDoors: 6:00pm | Show: 7:00pm \nBarenaked Ladies is coming to Boston this July! See them perform live alongside Sugar Ray and Fastball at Leader Bank Pavilion on the LAST SUMMER ON EARTH TOUR 2025! \nGrab your tickets today!
URL:https://theriverboston.com/events/barenaked-ladies-leader-bank-pavilion/
LOCATION:Leader Bank Pavilion\, 290 Northern Ave\, Boston\, MA\, 02210\, United States
END:VEVENT
END:VCALENDAR