BEGIN:VCALENDAR
VERSION:2.0
PRODID:-//92.5 the River - ECPv5.16.3.1//NONSGML v1.0//EN
CALSCALE:GREGORIAN
METHOD:PUBLISH
X-WR-CALNAME:92.5 the River
X-ORIGINAL-URL:https://theriverboston.com
X-WR-CALDESC:Events for 92.5 the River
BEGIN:VTIMEZONE
TZID:America/New_York
BEGIN:DAYLIGHT
TZOFFSETFROM:-0500
TZOFFSETTO:-0400
TZNAME:EDT
DTSTART:20240310T070000
END:DAYLIGHT
BEGIN:STANDARD
TZOFFSETFROM:-0400
TZOFFSETTO:-0500
TZNAME:EST
DTSTART:20241103T060000
END:STANDARD
END:VTIMEZONE
BEGIN:VEVENT
DTSTART;TZID=America/New_York:20240405T200000
DTEND;TZID=America/New_York:20240405T200000
DTSTAMP:20260425T131538
CREATED:20240216T195712Z
LAST-MODIFIED:20240216T195712Z
UID:222795-1712347200-1712347200@theriverboston.com
SUMMARY:Barry Goudreau at Blue Ocean Music Hall
DESCRIPTION:BUY TICKETS HERE\nBarry Goudreau’s Engine Room – featuring an opening set from Best Not Broken\nWith new music to play\, Barry Goudreau’s Engine Room looks forward to a return to the stage! Guitarist Barry Goudreau\, formerly of Boston brings a blues/rock ensemble including his former RTZ bandmates Brian Maes on lead vocals and keyboards\, as well as Tim Archibald on bass. Both Maes and Archibald were members of Peter Wolf’s House Party Five\, playing on two of his records and touring the world extensively. The band is rounded out with “Old” Tony DePietro on drums and Mary Beth Maes\, Terri O’Soro and Joanie Cicatelli on background vocals. Expect some favorites like “Smokin” and “Long Time” in their live set\, alongside songs from the new album “The Road”\, as well as tracks from “Full Steam Ahead”\, the 2017 release from Barry Goudreau’s Engine Room. \nOpening the show are New England Music Award winners Best Not Broken!\nThe indie pop/rock band has performed with contemporary chart-topping artists like Jason Derulo and Matt Nathanson as well as legendary classic rockers like Pat Benatar\, Little River Band\, Gin Blossoms\, and Jefferson Starship – proving it can charm audiences of many types. Their debut EP\, “Somewhere Good”\, produced by Boston music legend David Minehan\, put them on the map in compelling fashion\, and their follow-up EP\, “Falling In”\, also produced by Minehan\, shows a band that continues to evolve even as it maintains its infectious hooks and grooves. \n 
URL:https://theriverboston.com/events/barry-goudreau-at-blue-ocean-music-hall/
LOCATION:Blue Ocean Music Hall\, 4 Ocean Front N\, Salisbury\, 01952
END:VEVENT
END:VCALENDAR