BEGIN:VCALENDAR
VERSION:2.0
PRODID:-//92.5 the River - ECPv5.16.3.1//NONSGML v1.0//EN
CALSCALE:GREGORIAN
METHOD:PUBLISH
X-WR-CALNAME:92.5 the River
X-ORIGINAL-URL:https://theriverboston.com
X-WR-CALDESC:Events for 92.5 the River
BEGIN:VTIMEZONE
TZID:America/New_York
BEGIN:DAYLIGHT
TZOFFSETFROM:-0500
TZOFFSETTO:-0400
TZNAME:EDT
DTSTART:20180311T070000
END:DAYLIGHT
BEGIN:STANDARD
TZOFFSETFROM:-0400
TZOFFSETTO:-0500
TZNAME:EST
DTSTART:20181104T060000
END:STANDARD
END:VTIMEZONE
BEGIN:VEVENT
DTSTART;TZID=America/New_York:20180915T220000
DTEND;TZID=America/New_York:20180915T233000
DTSTAMP:20260422T212138
CREATED:20180905T140003Z
LAST-MODIFIED:20180905T140003Z
UID:138188-1537048800-1537054200@theriverboston.com
SUMMARY:BCF PRESENTS: OPHIRA EISENBERG
DESCRIPTION:Join us for an evening of comedy with Ophira Eisenberg!\nOphira Eisenberg is a comedian\, writer\, and host of NPR’s Ask Me Another. She has appeared on HBO’s Girls\, Gotham Live\, The Late Late Show\, The Today Show\, The Nightly Show\, Comedy Central\, and VH-1. Selected as one of New York Magazine’s Top 10 Comics that Funny People Find Funny\, and featured in the New York Times as a skilled comedian and storyteller with a “bleakly stylish” sense of humor\, Ophira’s debut memoir\, Screw Everyone: Sleeping My Way to Monogamy was optioned for a feature film with Zucker Productions. She is also a regular host and teller with The Moth\, her stories are part of their award winning radio show\, podcast\, and NYT best-selling book. Her comedy special Inside Joke was released by New Wave Entertainment and available on Amazon and iTunes. \nTickets are on-sale now\, so get them while you can!
URL:https://theriverboston.com/events/bcf-presents-ophira-eisenberg/
LOCATION:Somerville Theatre\, 55 Davis Square\, Somerville\, MA\, 02144\, United States
END:VEVENT
END:VCALENDAR