BEGIN:VCALENDAR
VERSION:2.0
PRODID:-//92.5 the River - ECPv5.16.3.1//NONSGML v1.0//EN
CALSCALE:GREGORIAN
METHOD:PUBLISH
X-WR-CALNAME:92.5 the River
X-ORIGINAL-URL:https://theriverboston.com
X-WR-CALDESC:Events for 92.5 the River
BEGIN:VTIMEZONE
TZID:America/New_York
BEGIN:DAYLIGHT
TZOFFSETFROM:-0500
TZOFFSETTO:-0400
TZNAME:EDT
DTSTART:20170312T070000
END:DAYLIGHT
BEGIN:STANDARD
TZOFFSETFROM:-0400
TZOFFSETTO:-0500
TZNAME:EST
DTSTART:20171105T060000
END:STANDARD
END:VTIMEZONE
BEGIN:VEVENT
DTSTART;TZID=America/New_York:20170518T200000
DTEND;TZID=America/New_York:20170518T200000
DTSTAMP:20260425T150833
CREATED:20170403T131008Z
LAST-MODIFIED:20170403T131008Z
UID:39278-1495137600-1495137600@theriverboston.com
SUMMARY:Ben Folds and the Boston Pops at Symphony Hall
DESCRIPTION:Ben Folds is coming to Symphony Hall\, Wednesday and Thursday\, May 17th and 18th!  \nFrom the Boston Pops website: “Ben Folds is widely regarded as on of the major music influencers of our generation. His genre-bending musical works include pop albums as frontman for Ben Folds Five\, multiple solo rocks hits\, music for film and TV as well as a role as a judge on NBC’s The Sing-Off. He joins the Boston pops for the first time since 2012 to perform his hits and the Boston premiere of his critically acclaimed Concerto for Piano and Orchestra.”
URL:https://theriverboston.com/events/ben-folds-boston-pops-symphony-hall/
LOCATION:Symphony Hall\, 301 Massachusetts Ave\, Boston\, MA\, 02115\, United States
END:VEVENT
END:VCALENDAR