BEGIN:VCALENDAR
VERSION:2.0
PRODID:-//92.5 the River - ECPv5.16.3.1//NONSGML v1.0//EN
CALSCALE:GREGORIAN
METHOD:PUBLISH
X-WR-CALNAME:92.5 the River
X-ORIGINAL-URL:https://theriverboston.com
X-WR-CALDESC:Events for 92.5 the River
BEGIN:VTIMEZONE
TZID:America/New_York
BEGIN:DAYLIGHT
TZOFFSETFROM:-0500
TZOFFSETTO:-0400
TZNAME:EDT
DTSTART:20160313T070000
END:DAYLIGHT
BEGIN:STANDARD
TZOFFSETFROM:-0400
TZOFFSETTO:-0500
TZNAME:EST
DTSTART:20161106T060000
END:STANDARD
END:VTIMEZONE
BEGIN:VEVENT
DTSTART;TZID=America/New_York:20161104T193000
DTEND;TZID=America/New_York:20161104T230000
DTSTAMP:20260424T021635
CREATED:20160928T162526Z
LAST-MODIFIED:20161102T201910Z
UID:21008-1478287800-1478300400@theriverboston.com
SUMMARY:The Best Little Whorehouse in Texas at the Palace Theatre!
DESCRIPTION:The Best Little Whorehouse in Texas is at the Palace Theatre! \nShowtimes for the weekend are: \nFriday\, November 4th @ 7:30 PM \nSaturday\, November 5th @ 2:00 PM \nSaturday\, November 5th @ 7:30 PM \nSunday\, November 6th @ 2:00 PM \n\nDon’t miss this rollicking HOOTENANNY of a musical!
URL:https://theriverboston.com/events/best-little-whorehouse-texas-palace-theatre-2/
LOCATION:Palace Theatre\, 80 Hanover Street\, Manchester\, NH\, 03101\, United States
END:VEVENT
END:VCALENDAR