BEGIN:VCALENDAR
VERSION:2.0
PRODID:-//92.5 the River - ECPv5.16.3.1//NONSGML v1.0//EN
CALSCALE:GREGORIAN
METHOD:PUBLISH
X-WR-CALNAME:92.5 the River
X-ORIGINAL-URL:https://theriverboston.com
X-WR-CALDESC:Events for 92.5 the River
BEGIN:VTIMEZONE
TZID:America/New_York
BEGIN:DAYLIGHT
TZOFFSETFROM:-0500
TZOFFSETTO:-0400
TZNAME:EDT
DTSTART:20160313T070000
END:DAYLIGHT
BEGIN:STANDARD
TZOFFSETFROM:-0400
TZOFFSETTO:-0500
TZNAME:EST
DTSTART:20161106T060000
END:STANDARD
END:VTIMEZONE
BEGIN:VEVENT
DTSTART;TZID=America/New_York:20161021T193000
DTEND;TZID=America/New_York:20161021T230000
DTSTAMP:20260423T120338
CREATED:20160928T160740Z
LAST-MODIFIED:20161026T041824Z
UID:21006-1477078200-1477090800@theriverboston.com
SUMMARY:The Best Little Whorehouse in Texas at the Palace Theatre: Opening Night!
DESCRIPTION:  \nIt’s opening night of The Best Little Whorehouse in Texas at the Palace Theatre! \nThis Rollicking HOOTENANNY of a musical\, is based on the legendary true story of Texas’ most popular bordellos! Come meet Miss Mona Stragley and witness her fight to keep her immortal corner of the community open all hours “servicing” politicians\, football teams\, and every day farmers. \nThe Best Little Whorehouse in Texas runs from Friday\, October 21 until Saturday\, November 12!
URL:https://theriverboston.com/events/best-little-whorehouse-texas-palace-theatre-opening-night/
LOCATION:Palace Theatre\, 80 Hanover Street\, Manchester\, NH\, 03101\, United States
END:VEVENT
END:VCALENDAR