BEGIN:VCALENDAR
VERSION:2.0
PRODID:-//92.5 the River - ECPv5.16.3.1//NONSGML v1.0//EN
CALSCALE:GREGORIAN
METHOD:PUBLISH
X-WR-CALNAME:92.5 the River
X-ORIGINAL-URL:https://theriverboston.com
X-WR-CALDESC:Events for 92.5 the River
BEGIN:VTIMEZONE
TZID:America/New_York
BEGIN:DAYLIGHT
TZOFFSETFROM:-0500
TZOFFSETTO:-0400
TZNAME:EDT
DTSTART:20150308T070000
END:DAYLIGHT
BEGIN:STANDARD
TZOFFSETFROM:-0400
TZOFFSETTO:-0500
TZNAME:EST
DTSTART:20151101T060000
END:STANDARD
END:VTIMEZONE
BEGIN:VEVENT
DTSTART;VALUE=DATE:20150627
DTEND;VALUE=DATE:20150629
DTSTAMP:20260422T080459
CREATED:20150329T175509Z
LAST-MODIFIED:20150329T175509Z
UID:6683-1435363200-1435535999@theriverboston.com
SUMMARY:Bike MS: Capecod Getaway
DESCRIPTION:Ride the Bike MS: Cape Cod Getaway\, June 27 and 28\,\npresented by Genzyme\, a Sanofi company.\nTwo days and 150 miles from UMass Boston to Provincetown. Every mile you ride moves us closer to a world free of multiple sclerosis. MS destroys connections\, so it’s only fitting that our connections would be its greatest enemy. Connect with friends\, co-workers\, and family on an unforgettable journey…the Cape Cod Getaway. Bike MS fundraising speeds new treatments. Bike MS fundraising helps answer questions about the disease. We’re there for you with outstanding route support and easy-to-use online fundraising tools. Don’t just ride. Ride the Cape Cod Getaway. \n\nSign up today at http://www.bikeMSgne.org.\nIf you or someone you know has MS\, call the National MS Society\, 1-800-FIGHT-MS.
URL:https://theriverboston.com/events/bike-ms-capecod-getaway/
ORGANIZER;CN="National%20Multiple%20Sclerosis%20Society":MAILTO:BikeMSGNE@nmss.org
END:VEVENT
END:VCALENDAR