BEGIN:VCALENDAR
VERSION:2.0
PRODID:-//92.5 the River - ECPv5.16.3.1//NONSGML v1.0//EN
CALSCALE:GREGORIAN
METHOD:PUBLISH
X-WR-CALNAME:92.5 the River
X-ORIGINAL-URL:https://theriverboston.com
X-WR-CALDESC:Events for 92.5 the River
BEGIN:VTIMEZONE
TZID:America/New_York
BEGIN:DAYLIGHT
TZOFFSETFROM:-0500
TZOFFSETTO:-0400
TZNAME:EDT
DTSTART:20160313T070000
END:DAYLIGHT
BEGIN:STANDARD
TZOFFSETFROM:-0400
TZOFFSETTO:-0500
TZNAME:EST
DTSTART:20161106T060000
END:STANDARD
END:VTIMEZONE
BEGIN:VEVENT
DTSTART;TZID=America/New_York:20160818T193000
DTEND;TZID=America/New_York:20160818T230000
DTSTAMP:20260419T203144
CREATED:20160114T195401Z
LAST-MODIFIED:20160114T195401Z
UID:9684-1471548600-1471561200@theriverboston.com
SUMMARY:Billy Joel at Fenway
DESCRIPTION:See Billy Joel Live at Fenway Park!\n\nWhen: Thursday\, August 18th\nShowtime: 7:00PM\nEnter for free to win tickets HERE!!
URL:https://theriverboston.com/events/billy-joel-at-fenway/
LOCATION:Fenway Park\, 4 Yawkey Way\, Boston\, MA\, 02215\, United States
END:VEVENT
END:VCALENDAR