BEGIN:VCALENDAR
VERSION:2.0
PRODID:-//92.5 the River - ECPv5.16.3.1//NONSGML v1.0//EN
CALSCALE:GREGORIAN
METHOD:PUBLISH
X-WR-CALNAME:92.5 the River
X-ORIGINAL-URL:https://theriverboston.com
X-WR-CALDESC:Events for 92.5 the River
BEGIN:VTIMEZONE
TZID:America/New_York
BEGIN:DAYLIGHT
TZOFFSETFROM:-0500
TZOFFSETTO:-0400
TZNAME:EDT
DTSTART:20250309T070000
END:DAYLIGHT
BEGIN:STANDARD
TZOFFSETFROM:-0400
TZOFFSETTO:-0500
TZNAME:EST
DTSTART:20251102T060000
END:STANDARD
END:VTIMEZONE
BEGIN:VEVENT
DTSTART;TZID=America/New_York:20250131T123000
DTEND;TZID=America/New_York:20250131T123000
DTSTAMP:20260419T141405
CREATED:20250121T180407Z
LAST-MODIFIED:20250121T180407Z
UID:225980-1738326600-1738326600@theriverboston.com
SUMMARY:Blind Pilot @ Peabody Essex Museum
DESCRIPTION:Blind Pilot | Friday\, January 31st @ The Peabody Essex Museum \nBlind Pilot is coming to the Peabody Essex Museum for a private show! You and a friend have the chance to win tickets to see Blind Pilot live for an intimate performance in the East India Marine Hall. The show starts at 12:30pm\, and afterwards you can have your photo taken with the band! Then\, spend the rest of the day exploring the Peabody Essex Museum for free! \nVisit The Winner’s Circle and enter by Sunday January 26th for your chance to win!
URL:https://theriverboston.com/events/blind-pilot-pem/
LOCATION:Peabody Essex Museum\, 161 Essex St\, Salem\, MA\, 01970\, United States
END:VEVENT
END:VCALENDAR